BEGIN:VCALENDAR
VERSION:2.0
PRODID:-//wp-events-plugin.com//7.2.3.1//EN
TZID:Europe/Berlin
X-WR-TIMEZONE:Europe/Berlin
BEGIN:VEVENT
UID:3531@lilabi.net
DTSTART;TZID=Europe/Berlin:20210629T190000
DTEND;TZID=Europe/Berlin:20210629T220000
DTSTAMP:20210618T151514Z
URL:https://www.lilabi.net/events/zwischen-barrieren-traeumen-und-selbstor
 ganisation-erfahrungen-junger-gefluechteter/
SUMMARY:„Zwischen Barrieren\, Träumen und Selbstorganisation - Erfahrung
 en junger Geflüchteter“
DESCRIPTION:Veranstalterin: Flüchtlingshilfe Lippe e.V.\n\n\nReferent: Moh
 ammed Jouni\n\nKinder- und Jugendhaus „Villa am Hügel“ (Humboldtstra
 ße 16\, 32756 Detmold )\nVeranstaltung wird voraussichtlich auch online 
 übertragen. Fh-L.org\n\n\n\nSowohl begleitete als auch unbegleitete Kinde
 r und Jugendliche unter 25 Jahre machen einen Großteil der geflüchteten 
 Menschen in Deutschland aus. Sie kommen aus Krisen- und Kriegsgebieten. Tr
 otz repressiver Grenzregime und zum Teil unvorstellbarer Erfahrungen auf d
 er Flucht versuchen sie in Deutschland\, ihre Träume und Hoffnungen zu ve
 rwirklichen. Dabei begegnen ihnen sowohl struktureller Rassismus wie Unver
 ständnis und Paternalismus\, aber auch angemessener Unterstützung. In se
 lbstorganisierten Gruppen und Räumen erleben sie Selbstwirksamkeit\, Soli
 darität und Empowerment-Prozesse.\n\nEine solche selbstorganisierte Grupp
 e ist das Autor*innenkollektiv »Jugendliche ohne Grenzen« aus Berlin.\n\
 nIn ihrem Buch "Zwischen Barrieren\, Träumen und Selbstorganisation" blic
 ken Sie auf die Jugendhilfe\, auf alles\, was oft scheinbar helfend für d
 ie geflüchteten Kinder und Jugendliche zur Verfügung steht. Wie erleben 
 sie\, die geflüchteten Jugendlichen\, das Aufnahmeland Deutschland und si
 ch selbst in ihm? Wie empfinden sie ihre Situation? Womit sind sie tagtäg
 lich konfrontiert? Was halten sie von Willkommensklassen? Das Autor*innenk
 ollektiv »Jugendliche ohne Grenzen« gibt Antworten und berichtet über s
 einen Alltag\, der geprägt ist von erschwerten Bedingungen wie Rassismus 
 und struktureller Diskriminierung einerseits und den alltäglichen Anforde
 rungen des Erwachsenwerdens andererseits.\n\nEine Veranstaltung in Koopera
 tion mit Kinder- und Jugendhaus „Villa am Hügel“.\n\nAnmeldung unter:
  vargas[a]fh-l.org\n\n\nOnline teilnehmen (keine Anmeldung erforderlich): 
 Fh-L.org\n\nEs kann zu kurzfristigen Änderung kommen\, bitte auf Fh-L.org
  schauen.
ATTACH;FMTTYPE=image/jpeg:https://www.lilabi.net/wp-content/uploads/2021/0
 6/Logo-bereinigt.png
CATEGORIES:Buchvorstellung
END:VEVENT
BEGIN:VTIMEZONE
TZID:Europe/Berlin
X-LIC-LOCATION:Europe/Berlin
BEGIN:DAYLIGHT
DTSTART:20210328T030000
TZOFFSETFROM:+0100
TZOFFSETTO:+0200
TZNAME:CEST
END:DAYLIGHT
END:VTIMEZONE
END:VCALENDAR