BEGIN:VCALENDAR
VERSION:2.0
PRODID:-//wp-events-plugin.com//7.2.3.1//EN
TZID:Europe/Berlin
X-WR-TIMEZONE:Europe/Berlin
BEGIN:VEVENT
UID:4706@lilabi.net
DTSTART;TZID=Europe/Berlin:20230403T200000
DTEND;TZID=Europe/Berlin:20230403T210000
DTSTAMP:20230329T205333Z
URL:https://www.lilabi.net/events/zur-imperialen-dimension-des-automobilie
 n-kapitalismus/
SUMMARY:Zur imperialen Dimension des automobilien Kapitalismus
DESCRIPTION:Wenn das 9-Euro-Ticket eines gezeigt hat\, dann\, dass wir es m
 it einer Mobilitätskrise zu tun haben. Während die Sprit-Preise explodie
 ren und der öffentliche Nahverkehr in der Realität nur in den Ballungsr
 äumen nutzbar ist\, hat die Auto-Industrie die scheinbare Lösung längst
  parat: E-Mobilität. Beinahe geräuschlose und scheinbar emissionslose Ka
 rossen sollen der Absatzkrise der Industrie genauso Abhilfe verschaffen wi
 e den mörderischen Konsequenzen\, welche die Automobilität auf das Klima
  hat. Warum das nicht einmal die halbe Wahrheit ist\, zeigt der Vortrag 
 „Zur imperialen Dimension des automobilen Kapitalismus“.\n\nDafür wir
 d sich zunächst mit der Frage beschäftigt\, wo und unter welchen Umstän
 den die Rohstoffe gewonnen werden\, die für den Umbau der Industrie nöti
 g sind. Im Anschluss daran wird die Frage nach globaler Arbeitsteilung ges
 tellt und nachvollzogen\, was gemeint ist wenn die Industrie von „günst
 igen Produktionsbedingungen“ spricht\, wie es historisch zu ihnen gekomm
 en ist und warum gerade das deutsche Auto-Kapital auf den afrikanischen Ko
 ntinent schielt und was das damit zu tun hat\, dass Diesel-Autos auf neue 
 Absatzmärkte gebracht werden müssen.\n\nDa gesellschaftliche Schweinerei
 en nur so lange bestehen können\, bis sie jemand beendet\, wird schließl
 ich ein Blick auf bereits geführte und noch zu führende Kämpfe gegen de
 n automobilen Kapitalismus geworfen.\n\n&nbsp\;\n\nEin Vortrag des Antifa 
 AK Köln im Rahmen des Roten Montags.\n\nOrganisiert von der Antinationale
 n Linken Bielefeld [ALIBI].
ATTACH;FMTTYPE=image/jpeg:https://www.lilabi.net/wp-content/uploads/2023/0
 3/ak_koeln.jpg
CATEGORIES:Kneipe,Vortrag
LOCATION:Extra Blues Bar\, Kreuzstraße 6\, 33602 Bielefeld\, Deutschland
X-APPLE-STRUCTURED-LOCATION;VALUE=URI;X-ADDRESS=Kreuzstraße 6\, 33602 Biel
 efeld\, Deutschland;X-APPLE-RADIUS=100;X-TITLE=Extra Blues Bar:geo:0,0
END:VEVENT
BEGIN:VTIMEZONE
TZID:Europe/Berlin
X-LIC-LOCATION:Europe/Berlin
BEGIN:DAYLIGHT
DTSTART:20230326T030000
TZOFFSETFROM:+0100
TZOFFSETTO:+0200
TZNAME:CEST
END:DAYLIGHT
END:VTIMEZONE
END:VCALENDAR