BEGIN:VCALENDAR
VERSION:2.0
PRODID:-//wp-events-plugin.com//7.2.3.1//EN
TZID:Europe/Berlin
X-WR-TIMEZONE:Europe/Berlin
BEGIN:VEVENT
UID:4719@lilabi.net
DTSTART;TZID=Europe/Berlin:20230411T190000
DTEND;TZID=Europe/Berlin:20230411T210000
DTSTAMP:20230406T152851Z
URL:https://www.lilabi.net/events/zerstoeren-wir-den-leviathan-ueber-die-u
 nvereinbarkeit-von-anarchie-und-zivilisation/
SUMMARY:Zerstören wir den Leviathan! - Über die Unvereinbarkeit von Anarc
 hie und Zivilisation
DESCRIPTION:Vortrag und Diskussion:\n\nZerstören wir den Leviathan! - Übe
 r die Unvereinbarkeit von Anarchie und Zivilisation\n\n“Sie verunstalten
  die Erde mit ihren Konstruktionen und ihrem Abfall. Die Nation ist wie ei
 n Strom geschmolzenen Schnees\, der sein Bett verlässt und alles auf sein
 em Weg zerstört.”\nDie Zerstörung der Erde schreitet immer weiter vora
 n. Tag für Tag\, Jahr für Jahr\, wird Fläche um Fläche zubetoniert\, d
 ie Erde aufgerissen\, Flüsse und Gewässer vergiftet\, Wüste um Wüste g
 eschaffen. Während tagtäglich und das auch vor unseren Augen die lebendi
 ge Welt in eine tote verwandelt wird\, haben die Mächtigen einen Propagan
 dasturm entfesselt\, der das Massaker an Erde und Lebewesen auf die “Kli
 mafrage” reduziert und einen “grünen” Kapitalismus bewirbt. Dabei s
 oll die Energie\, die zum Betreiben des gigantischen Apparats\, in dem wir
  heute leben\, vonnöten ist\, von fossilen Brennstoffen auf “erneuerbar
 e Energien” umgestellt werden.\n\nEtwas an dem sich auch viele antikapit
 alistisch eingestellte Menschen nicht stoßen\, solange diese “erneuerba
 re Energie” für eine Produktion eingesetzt wird\, die den Menschen verm
 eintlich nützt. Während sie also technologische Lösungen für ein techn
 ologisch verursachtes Problem vorschlagen\, während sie Autos verdammen u
 nd Züge als die vermeintlich “ökologischere” Alternative preisen\, w
 ährend sie Windräder und Solarpanels bewerben\, beteiligen sich diejenig
 en\, die die Produktionsmittel an sich reißen wollen\, um diese wahrhaft 
 zum Wohle der Menschheit einzusetzen\, weiter am Massaker an der lebendige
 n Welt. Denn ob (“grüner”) Kapitalismus\, (Öko-)Faschismus\, oder (A
 narcho-)Kommunismus (oder einer seiner vielen Spielarten)\, sie alle eint 
 das Festhalten an der industriellen Produktion\, an einem Verhältnis zur 
 Natur\, zu dessen Kreislauf sie sich nicht zugehörig fühlen\, am Kolonia
 lismus und am Extraktivismus\, kurz an der Zivilisation.\n\nUnd so können
  sie sich nur darüber wundern\, dass etwa die wenigen Nachfahren der durc
 h die europäischen Kolonisatoren abgeschlachteten Indigenen auf dem chile
 nisch besetzten Gebiet den Bau von Wasserkraftwerken sabotieren und die Fo
 rstwirtschaft angreifen. Dass Individuen in der französischen Kolonie Neu
 kaledonien die Förderbänder der so sehr für die “Dekarbonisierung” 
 benötigten Nickel- und Kobalt-Minen abfackeln. Dass in Frankreich Umspann
 werke und Windräder brennen. Rückständigkeit und die “Verklärung üb
 erkommener Lebensweisen”? Oder die notwendige Einbeziehung der Kritik in
 digener Menschen an Kolonialismus und Zivilisation in eine anarchistische 
 Analyse?\nAn diesem Abend soll die klassische anarchistische Kritik an Her
 rschaft\, Staat und Kapital erweitert werden\, um anschließend über Zivi
 lisation\, Kolonialismus und industrielle Produktion zu diskutieren - und 
 darüber\, was mensch angesichts der Megamaschine\, mit der wir konfrontie
 rt sind\, tun kann.
CATEGORIES:Diskussion,Vortrag
LOCATION:Infoladen Anschlag\, Heeper Str. 132\, Bielefeld\, Deutschland
X-APPLE-STRUCTURED-LOCATION;VALUE=URI;X-ADDRESS=Heeper Str. 132\, Bielefeld
 \, Deutschland;X-APPLE-RADIUS=100;X-TITLE=Infoladen Anschlag:geo:0,0
END:VEVENT
BEGIN:VTIMEZONE
TZID:Europe/Berlin
X-LIC-LOCATION:Europe/Berlin
BEGIN:DAYLIGHT
DTSTART:20230326T030000
TZOFFSETFROM:+0100
TZOFFSETTO:+0200
TZNAME:CEST
END:DAYLIGHT
END:VTIMEZONE
END:VCALENDAR