BEGIN:VCALENDAR
VERSION:2.0
PRODID:-//wp-events-plugin.com//7.2.3.1//EN
TZID:Europe/Berlin
X-WR-TIMEZONE:Europe/Berlin
BEGIN:VEVENT
UID:5826@lilabi.net
DTSTART;TZID=Europe/Berlin:20241216T170000
DTEND;TZID=Europe/Berlin:20241216T200000
DTSTAMP:20241127T113115Z
URL:https://www.lilabi.net/events/winter-cafe-im-cafe-welthaus-2/
SUMMARY:Winter-Café im Café Welthaus
DESCRIPTION:Der Winter kommt mit Kälte und Dunkelheit\, aber auch mit eine
 m gemütlichen Winter-Café im Welthaus Bielefeld. An zwei Terminen im Dez
 ember werden wir die Türen des Café Welthaus etwas länger öffnen und h
 eißen von 17:00 bis 20:00 Uhr alle mit kostenlosem Punsch und Keksen will
 kommen.\n\nKommt gerne vorbei\, bringt Freund*innen mit oder knüpft vor O
 rt neue Kontakte zu alten und neuen Bielefelder*innen! Alle Bielefelder*in
 nen\, (internationale) Studierende\, Süd-Nord-Freiwilligen\, Rentner*inne
 n und alle\, die Lust auf ein gemütliches Beisammensein haben\, sind eing
 eladen. Wir werden uns auf verschiedenen Sprachen austauschen und ins Gesp
 räch kommen.\n\nkostenfrei\, wir freuen uns über Spenden
ATTACH;FMTTYPE=image/jpeg:https://www.lilabi.net/wp-content/uploads/2024/1
 1/Winter-Cafe-2024_Sharepic_1000-1.png
CATEGORIES:Austausch/Vernetzung,Sonstiges
LOCATION:Welthaus Bielefeld\, August-Bebel-Str. 62 \, Bielefeld\, Deutschla
 nd
X-APPLE-STRUCTURED-LOCATION;VALUE=URI;X-ADDRESS=August-Bebel-Str. 62 \, Bie
 lefeld\, Deutschland;X-APPLE-RADIUS=100;X-TITLE=Welthaus Bielefeld:geo:0,0
END:VEVENT
BEGIN:VTIMEZONE
TZID:Europe/Berlin
X-LIC-LOCATION:Europe/Berlin
BEGIN:STANDARD
DTSTART:20241027T020000
TZOFFSETFROM:+0200
TZOFFSETTO:+0100
TZNAME:CET
END:STANDARD
END:VTIMEZONE
END:VCALENDAR