BEGIN:VCALENDAR
VERSION:2.0
PRODID:-//wp-events-plugin.com//7.2.3.1//EN
TZID:Europe/Berlin
X-WR-TIMEZONE:Europe/Berlin
BEGIN:VEVENT
UID:6506@lilabi.net
DTSTART;TZID=Europe/Berlin:20251213T140000
DTEND;TZID=Europe/Berlin:20251213T180000
DTSTAMP:20251125T090731Z
URL:https://www.lilabi.net/events/winter-basar-2/
SUMMARY:Winter-Basar
DESCRIPTION:\n\n\n\nSchrottwichteln\n\n\n\n\nVerpacke ein lustiges geschenk
  (kein Müll!) und bring es mit\, tausche es gegen ein anderes geschenk.\n
 \n\n\n\n\n\nInfostand Anarchist Black Cross Ruhr &amp\; offener Infoladen 
 “Anschlag”\n\n\n\n\nZum stöbern\, lesen und Kontakten\n\n\n\n\n\n\nSO
 li-Basar\n\n\n\n\nPräsente\, Kleinigkeiten und Selbstgemachtes gegen Spen
 de (Bring auch gern was mit wenn du lust hast)\n\n\n\n\n\n\nErlös &amp\; 
 Spenden für Antirepressionsarbeit\n\n\n\n\nDie aktuelle Repression gegen 
 Antifaschist:innen steht sinnbildlich für die derzeitigen politischen Ver
 hältnisse. Ermittlungen und Angriffe der Bullen und Gerichtsprozesse\, ri
 chten sich gegen einzelne. Gemeint sind aber alle\, die sich faschistische
 n Zuständen entschieden entgegenstellen. Unsere Überzeugungen sind unang
 reifbar! Unsere Solidarität bleibt ungebrochen!\n\n\n\n\n\n\nProgramm Emp
 fehlung: am gleichen tag (13.12.) gehts ab 19 Uhr weiter mit der Antifa-So
 likneipe\n\n\n\n
ATTACH;FMTTYPE=image/jpeg:https://www.lilabi.net/wp-content/uploads/2025/1
 1/1.png
CATEGORIES:Soli
LOCATION:AJZ Bielefeld\, Heeper Str. 132\, 33607 Bielefeld\, Deutschland
X-APPLE-STRUCTURED-LOCATION;VALUE=URI;X-ADDRESS=Heeper Str. 132\, 33607 Bie
 lefeld\, Deutschland;X-APPLE-RADIUS=100;X-TITLE=AJZ Bielefeld:geo:0,0
END:VEVENT
BEGIN:VTIMEZONE
TZID:Europe/Berlin
X-LIC-LOCATION:Europe/Berlin
BEGIN:STANDARD
DTSTART:20251026T020000
TZOFFSETFROM:+0200
TZOFFSETTO:+0100
TZNAME:CET
END:STANDARD
END:VTIMEZONE
END:VCALENDAR