BEGIN:VCALENDAR
VERSION:2.0
PRODID:-//wp-events-plugin.com//7.2.3.1//EN
TZID:Europe/Berlin
X-WR-TIMEZONE:Europe/Berlin
BEGIN:VEVENT
UID:5591@lilabi.net
DTSTART;TZID=Europe/Berlin:20240313T180000
DTEND;TZID=Europe/Berlin:20240313T200000
DTSTAMP:20240311T133957Z
URL:https://www.lilabi.net/events/wie-kann-eine-soziale-wohnungspolitik-ge
 lingen/
SUMMARY:Wie kann eine soziale Wohnungspolitik gelingen?
DESCRIPTION:Eine Wohnungspolitik\, die tatsächlich ausreichend bezahlbaren
  und guten Wohnraum schafft: Das gelingt in Graz\, einer Stadt im Süden 
 Österreichs mit knapp 300.000 Einwohner*innen. Also durchaus vergleichbar
  mit Bielefeld. Wegweisend für die Wohnungspolitik dort war Ernest Kalten
 egger\, der 1998 Stadtrat für Wohnen wurde und mit einer glaubwürdigen W
 ohnungspolitik und konkreter Hilfe spürbare Erfolge für\ndie Grazer Bür
 ger*innen erzielen konnte. Und weil sie auch in der Verkehrs- und Energiep
 olitik Dinge zukunftsweisend bewegen\, ist die KPÖ\, die Kommunistische P
 artei Österreichs\, der Ernest Kaltenegger angehört\, inzwischen die st
 ärkste Fraktion im Gemeinderat und stellt die Oberbürgermeisterin.\nErne
 st Kaltenegger wird die konkreten wohnungspolitischen Maßnahmen der KPÖ 
 Graz vorstellen. Im Anschluss möchten wir gemeinsam mit ihm und Jens Hage
 dorn von der Wohnungsbauförderung der Stadt Bielefeld einen Vergleich zwi
 schen der Situation in Graz und in Bielefeld ziehen und darüber sprechen\
 , wie eine soziale Wohnungspolitik gelingen kann
ATTACH;FMTTYPE=image/jpeg:https://www.lilabi.net/wp-content/uploads/2024/0
 3/Sticker_Wohnraeume_statt_Investorentraeume_KPOe_Salzburg_2023.jpg
CATEGORIES:Diskussion,Infoveranstaltung,Podiumsdiskussion,Vortrag
LOCATION:Falkendom\,  Meller Str. 77\, 33613 Bielefeld\, Bielefeld\, Deutsc
 hland
X-APPLE-STRUCTURED-LOCATION;VALUE=URI;X-ADDRESS= Meller Str. 77\, 33613 Bie
 lefeld\, Bielefeld\, Deutschland;X-APPLE-RADIUS=100;X-TITLE=Falkendom:geo:
 0,0
END:VEVENT
BEGIN:VTIMEZONE
TZID:Europe/Berlin
X-LIC-LOCATION:Europe/Berlin
BEGIN:STANDARD
DTSTART:20231029T020000
TZOFFSETFROM:+0200
TZOFFSETTO:+0100
TZNAME:CET
END:STANDARD
END:VTIMEZONE
END:VCALENDAR