BEGIN:VCALENDAR
VERSION:2.0
PRODID:-//wp-events-plugin.com//7.2.3.1//EN
TZID:Europe/Berlin
X-WR-TIMEZONE:Europe/Berlin
BEGIN:VEVENT
UID:3425@lilabi.net
DTSTART;TZID=Europe/Berlin:20200909T190000
DTEND;TZID=Europe/Berlin:20200909T210000
DTSTAMP:20200813T124251Z
URL:https://www.lilabi.net/events/wie-funktioniert-die-fau-4/
SUMMARY:Wie funktioniert die FAU?
DESCRIPTION:Der in lockerer Atmosphäre in Anwesenheit von Genossinnen und 
 Genossen der FAU Bielefeld regelmäßig stattfindende Vortrag richtet sich
  an alle Interessierten\, aber auch neuen Mitglieder\, die die Freie Arbei
 terinnen- und Arbeiter-Union kennenlernen wollen.\n\n„Wie funktioniert e
 igentlich eine Basisgewerkschaft?“\, „Was zeichnet die gewerkschaftlic
 hen Auseinandersetzungen der FAU aus?“ und „Wie kann ich aktiv werden?
 “ sind dabei einige der Fragen\, die beantwortet werden sollen.\n\nDie S
 chwerpunkte des Vortrags hängen dabei jedoch von euren Interessen ab. Im 
 Idealfall entwickelt sich im Laufe des Abends ein Gespräch\, in dem wir a
 uf all eure individuellen Fragen eingehen können. Gerne könnt ihr uns eu
 re Fragen auch vorher zukommen lassen: faubi-kontakt[at]fau.org\n\nKommt g
 erne vorbei\, wir freuen uns auf euch!\n\nEURE FAU BIELEFELD
CATEGORIES:Vortrag
LOCATION:Gewerkschaftslokal der FAU Bielefeld\, Metzer Str.20 \, Bielefeld\
 , 33607\, Deutschland
X-APPLE-STRUCTURED-LOCATION;VALUE=URI;X-ADDRESS=Metzer Str.20 \, Bielefeld\
 , 33607\, Deutschland;X-APPLE-RADIUS=100;X-TITLE=Gewerkschaftslokal der FA
 U Bielefeld:geo:0,0
END:VEVENT
BEGIN:VTIMEZONE
TZID:Europe/Berlin
X-LIC-LOCATION:Europe/Berlin
BEGIN:DAYLIGHT
DTSTART:20200329T030000
TZOFFSETFROM:+0100
TZOFFSETTO:+0200
TZNAME:CEST
END:DAYLIGHT
END:VTIMEZONE
END:VCALENDAR