BEGIN:VCALENDAR
VERSION:2.0
PRODID:-//wp-events-plugin.com//7.2.3.1//EN
TZID:Europe/Berlin
X-WR-TIMEZONE:Europe/Berlin
BEGIN:VEVENT
UID:4814@lilabi.net
DTSTART;TZID=Europe/Berlin:20230921T183000
DTEND;TZID=Europe/Berlin:20230921T200000
DTSTAMP:20230908T121849Z
URL:https://www.lilabi.net/events/white-coffee/
SUMMARY:White Coffee
DESCRIPTION:»Klein &amp\; Fein« – Konzerte am Biergarten« \n\nEs spiel
 t: ›White Coffee‹\n\n 	Donnerstag: 21. September 2023\n 	Stadtteilzent
 rum Bürgerwache\,\nRolandstr. 16\, 33615 Bielefeld\n 	Siegfriedplatz – 
 am Biergarten der KaffeeWirtschaft - barrierefrei\n 	18:30 Uhr\n 	Eintritt
  frei / Spenden gerne gesehen\n\nDie ›Klein &amp\; Fein‹ Kultur- &amp\
 ; Konzertreihe der Bürgerinitiative Bürgerwache präsentiert im Septembe
 r die Band ›White Coffee‹. Bei Regen wird das Konzert um eine Woche ve
 rschoben.\n\n›White Coffee‹: Ein leckeres Getränk zu jeder Jahreszeit
  - oder ein akustischer Genuss.\n\nEine Gitarre\, eine Ukulele und zwei St
 immen im Einklang. Mit eigenen Songs und Coverstücken schaffen sie eine h
 armonische Atmosphäre aus Reggae\, Jazz und Popmusik.\n\n»Es macht unhei
 mlich viel Spass\, die Menschen mit Musik den Alltag vergessen zu lassen.
 «\n\n 	Jennifer Grove - Lead Vocals / Ukulele\n 	Andreas Grove - Gitarre 
 / Backing Vocals\n\nJenny und Andy Grove geben bekannte Stücke aus Jazz\,
  Popmusik und Bossa Nova in eigener\, stimmungsvoller Version wieder. Es g
 eht Ihnen hauptsächlich darum\, mit ihrer Musik die Wertschätzung der kl
 einen Dinge im Leben hervorzuheben. ›White Coffee‹ wollen Menschen zus
 ammenbringen\, unterhalten und zum Träumen einladen.\n\n&nbsp\;\n\nDie Ku
 ltur- &amp\; Konzertreihe »Klein &amp\; Fein« wird monatlich fortgesetzt
 . \n\nBei schlechten Wetter wird das Konzert auf Donnerstag\, den 28.09.20
 23 verschoben\n\nben hervorzuheben. ›White Coffee‹ wollen Menschen zus
 ammenbringen\, unterhalten und zum Träumen einladen.\n\nDie Kultur- &amp\
 ; Konzertreihe »Klein &amp\; Fein« wird monatlich fortgesetzt. \n\nBei s
 chlechten Wetter wird das Konzert auf Donnerstag\, den 28.09.2023 verschob
 en
CATEGORIES:Konzert,Musik
LOCATION:Bürger*innenwache Siegfriedplatz\, Rolandstr. 16\, 33615 Bielefel
 d\, Deutschland
X-APPLE-STRUCTURED-LOCATION;VALUE=URI;X-ADDRESS=Rolandstr. 16\, 33615 Biele
 feld\, Deutschland;X-APPLE-RADIUS=100;X-TITLE=Bürger*innenwache Siegfried
 platz:geo:0,0
END:VEVENT
BEGIN:VTIMEZONE
TZID:Europe/Berlin
X-LIC-LOCATION:Europe/Berlin
BEGIN:DAYLIGHT
DTSTART:20230326T030000
TZOFFSETFROM:+0100
TZOFFSETTO:+0200
TZNAME:CEST
END:DAYLIGHT
END:VTIMEZONE
END:VCALENDAR