BEGIN:VCALENDAR
VERSION:2.0
PRODID:-//wp-events-plugin.com//7.2.3.1//EN
TZID:Europe/Berlin
X-WR-TIMEZONE:Europe/Berlin
BEGIN:VEVENT
UID:7019@lilabi.net
DTSTART;TZID=Europe/Berlin:20261122T160000
DTEND;TZID=Europe/Berlin:20261122T160000
DTSTAMP:20260421T142704Z
URL:https://www.lilabi.net/events/weltnacht-salsa-festival-mit-las-karamba
 -kuenstlerinnen-aus-westfalen-und-weltweit/
SUMMARY:Weltnacht: Salsa-Festival mit Las Karamba – Künstlerinnen aus We
 stfalen und weltweit
DESCRIPTION:Konzert: Las Karamba\, Einlass 15:00 Uhr\, Beginn 16:00 Uhr \n
 \nLateinamerikanische Frauenpower und Lebensfreude pur.\nMitten auf den be
 lebten Straßen Barcelonas\, inmitten von Chaos\, Stau und Stress\, wurde 
 „Las Karamba“ im Jahr 2018 gegründet. Sechs Lebensgeschichten trafen 
 hier aufeinander\, von Migration\, musikalischem Erbe und teils subversive
 n Elternhäusern individuell geprägt. Gemeinsam wollten die Frauen Kraft 
 schöpfen\, Ängste überwinden und ihren Träumen nachgehen. Und sie woll
 ten ihrer Hingabe zur Musik Ausdruck verleihen und die Rolle der Frau beto
 nen.\n\nDie multikulturelle Band setzt sich aus Mitgliedern aus Venezuela\
 , Kuba\, Katalonien\, Frankreich und Argentinien zusammen. Sie verleihen d
 en traditionellen Stilen wie Son\, Cha-Cha-Cha\, Salsa und Timba mit Einfl
 üssen aus Rap und urbaner Musik\, kombiniert mit etwas Samba und Rumba\, 
 eine neue\, äußerst kraftvolle und mitreißende musikalische Note.\n\nAu
 f der Bühne präsentiert sich die Gruppe extrem gut eingespielt mit einer
  mitreißenden Show\, tanzbaren Songs\, perfekten Arrangements und wunderb
 aren\, eingängigen Melodien. Frontfrau Ahyvin Bruno versteht es\, das Pub
 likum mit ihrer grandiosen Stimme zu begeistern\, begleitet von makellosem
  Backgroundgesang. Las Karamba bringt Lebensfreude und großartige Musik a
 uf die Bühne. Sie macht Spaß und überzeugt das Publikum vom ersten Mome
 nt an!\n\nBesetzung:\nAhyvin Bruno – Gesang\, Congas\nRita Baulida – P
 ercussion\, Timbales\, Gesang\nLiviet Ojeda – Bass\, Gesang\nNatasha Ari
 zu – Keyboard\, Gesang\nMaria Gil – Flöte\, Gesang\n\nFoto: Markus Fr
 oemml\n\nSalsa-Party\, Beginn 18:00 Uhr\n\nEuch erwarten mitreißende Rhyt
 hmen aus Salsa\, Bachata und Kizomba\, die garantiert Lust machen\, die Ta
 nzfläche zu erobern!\n\nOb Anfängerin oder erfahrener Tänzerin – ihr 
 braucht keinen Partner oder keine Partnerin\, jeder ist willkommen! Im Vor
 dergrund stehen Spaß an der Musik\, Bewegung und das gemeinsame Tanzerleb
 nis. Merkt euch: Salsa im BÜZ findet jeden letzten Sonntag im Monat statt
  – mit abwechslungsreicher Musik\, frischen Rhythmen und viel guter Laun
 e.\n\nKommt vorbei\, tanzt mit und genießt einen unvergesslichen Abend vo
 ller Musik\, Bewegung und Lebensfreude!\n\n[Eintritt: Kombi-Ticket VVK 29\
 ,70 Euro inkl. Gebühren\, AK 35 Euro\, nur Salsa-Party 7 Euro]\nVeranstal
 ter: Welthaus Bielefeld e.V. in Zusammenarbeit mit Kulturzentrum BÜZ\nGef
 ördert vom Ministerium für Kultur und Wissenschaft des Landes NRW
ATTACH;FMTTYPE=image/jpeg:https://www.lilabi.net/wp-content/uploads/2026/0
 4/Weltnacht-2026_Las-Karamba-Foto-Markus-Froemml.jpg
CATEGORIES:Konzert,Musik,Party
LOCATION:\, \, 
X-APPLE-STRUCTURED-LOCATION;VALUE=URI;X-ADDRESS=\, ;X-APPLE-RADIUS=100;X-TI
 TLE=:geo:0,0
END:VEVENT
BEGIN:VTIMEZONE
TZID:Europe/Berlin
X-LIC-LOCATION:Europe/Berlin
BEGIN:STANDARD
DTSTART:20261025T020000
TZOFFSETFROM:+0200
TZOFFSETTO:+0100
TZNAME:CET
END:STANDARD
END:VTIMEZONE
END:VCALENDAR