BEGIN:VCALENDAR
VERSION:2.0
PRODID:-//wp-events-plugin.com//7.2.3.1//EN
TZID:Europe/Berlin
X-WR-TIMEZONE:Europe/Berlin
BEGIN:VEVENT
UID:5946@lilabi.net
DTSTART;TZID=Europe/Berlin:20250614T200000
DTEND;TZID=Europe/Berlin:20250614T234500
DTSTAMP:20250506T133800Z
URL:https://www.lilabi.net/events/weltnacht-melane-band-und-dobet-gnahore-
 beim-afrika-festival-muenster-kuenstlerinnen-aus-westfalen-und-weltweit/
SUMMARY:Weltnacht: Melane &amp\; Band und Dobet Gnahoré beim Afrika Festiv
 al Münster – Künstlerinnen aus Westfalen und weltweit
DESCRIPTION:Melane &amp\; Band – Kongo\nAfro-Rumba\, Afrobeats\, Soul and
  Jazz aus Köln mit kongolesischen Wurzeln. Die Sängerin steht für Power
 \, Authentizität und Freude an der Musik und schlägt die Brücke zwische
 n Afrika und Europa.\n\nMelane ist eine vielversprechende Musikerin\, Akti
 vistin und Afrikanistin\, die seit 2007 in Köln lebt. Sie kam früh zur M
 usik und stand schon mit absoluten Größen wie Richard Bona\, Tony Allen\
 , Manu Dibango oder Gentleman auf der Bühne. Nach dem erfolgreichen Album
  „Four“ (ACT) mit dem Jazztrio „Three Fall“\, hat sich die Sänger
 in mit kongolesischen Wurzeln 2020 entschlossen eine Solo-Karriere zu star
 ten und ihre eigene musikalische Geschichte weiterzuerzählen.\nSie nutzt 
 verschiedene Plattformen\, um soziale Themen anzusprechen und jungen Mensc
 hen in der Diaspora und weltweit eine Stimme zu geben. Ihr Einfluss erstre
 ckt sich über die Musik hinaus und macht sie zu einer einflussreichen Fig
 ur in der Welt der Kunst und Kultur.\nDie Band beseht aus Gesang\, Schlagz
 eug\, Bass\, Gitarre und Keys.\n\n„Ich bin nicht nur Schwarz\, eine Frau
  und Sängerin. Ich bin alles in einem.“ - Interview mit WDR COSMO\n\nFo
 to: B. Caspar\n\nDobet Gnahoré – Côte d‘Ivoire/Frankreich\nMan kann 
 die Sängerin\, Tänzerin und Perkussionistin Dobet Gnahoré durchaus als 
 eine der Superstars des afrikanischen Kontinents bezeichnen. Sie wuchs in 
 einer Künstlerfamilie auf und kann auf eine lange Karriere zurückblicken
 \, in der sie 2010 einen Grammy Award gewann und über 800 Konzerte weltwe
 it spielte. Den Corona-Lockdown hat sie produktiv genutzt und ihr sechstes
  Album „Couleur“ in Abidjan aufgenommen. Entstanden ist wieder einmal 
 ein tanzbares Werk\, in dem sich die verschiedenen Sounds des urbanen West
 afrikas wiederfinden. Live überzeugt sie nicht nur durch ihr energiegelad
 ene Programm und ihre unverwechselbare Stimme\, sondern vor allem auch dur
 ch ihre legendären Tanzeinlagen.\nDobet Gnahoré\, Afro-Pop-Diva aus Côt
 e d‘Ivoire\, wird gern mit Angélique Kidjo und Miriam Makeba verglichen
 . Sie singt betörende panafrikanische Balladen! In bester Manier einer Ch
 ansonnière komponiert und textet die Sängerin ihre Lieder selbst. Sie ve
 rmittelt in den Sprachen Bété\, Lingala und Wolof ein Bild ihres ganz ei
 genen Afrikas und singt offen über die Liebe\, den Tod\, die Ausbeutung d
 er Frauen und Kinder in Afrika.\nDazu gestaltet ihr virtuoses Ensemble fei
 ngliedrige pan-afrikanische und zeitlos wirkende Arrangements mit westafri
 kanischen Mandingo-Melodien\, ivorischen Ziglibiti-Gitarrenläufen\, kongo
 lesischen Rumba-Rhythmen\, kamerunischem Bikutsi-Pop und ghanaischem Highl
 ife-Sound – legendär ihre atemberaubenden Tanzeinlagen!\n\nFoto: Jean G
 oun\n\nVeranstalter: Afrika Kooperative Münster e.V. in Kooperation mit d
 em Welthaus Bielefeld\nGefördert vom Ministerium für Kultur und Wissensc
 haft NRW\n\nEintritt: VVK Tagesticket 30\,00 Euro/ermäßigt 25\,00 Euro\,
  AK 35\,00 Euro/ermäßigt 30\,00 Euro/Bürgergeld-Empfänger*innen 1\,00 
 Euro (nur AK)\, bis 12 Jahre Eintritt frei\,\nZwei-Tages-Ticket: VVK 55\,0
 0 Euro/ermäßigt 45\,00 Euro\nVVK: An allen bekannten Vorverkaufsstellen 
 in Bielefeld und Münster\nKarten online: proticket.de | Zwei-Tages-Tic
 ket
ATTACH;FMTTYPE=image/jpeg:https://www.lilabi.net/wp-content/uploads/2025/0
 5/2025_Weltnacht_Melane_Copyright-B.-Caspar.jpg
CATEGORIES:Konzert,Musik
LOCATION:Jovel Münster\, Albersloher Weg 54\,  Münster\, NRW\, 48155\, We
 stfalen\, Deutschland
X-APPLE-STRUCTURED-LOCATION;VALUE=URI;X-ADDRESS=Albersloher Weg 54\,  Müns
 ter\, NRW\, 48155\, Westfalen\, Deutschland;X-APPLE-RADIUS=100;X-TITLE=Jov
 el Münster:geo:0,0
END:VEVENT
BEGIN:VTIMEZONE
TZID:Europe/Berlin
X-LIC-LOCATION:Europe/Berlin
BEGIN:DAYLIGHT
DTSTART:20250330T030000
TZOFFSETFROM:+0100
TZOFFSETTO:+0200
TZNAME:CEST
END:DAYLIGHT
END:VTIMEZONE
END:VCALENDAR