BEGIN:VCALENDAR
VERSION:2.0
PRODID:-//wp-events-plugin.com//7.2.3.1//EN
TZID:Europe/Berlin
X-WR-TIMEZONE:Europe/Berlin
BEGIN:VEVENT
UID:5951@lilabi.net
DTSTART;TZID=Europe/Berlin:20251018T200000
DTEND;TZID=Europe/Berlin:20251018T230000
DTSTAMP:20250506T134206Z
URL:https://www.lilabi.net/events/weltnacht-matria-kuenstlerinnen-aus-west
 falen-und-weltweit/
SUMMARY:Weltnacht: Matria – Künstlerinnen aus Westfalen und weltweit
DESCRIPTION:\n\n\n“Berg-Musik\, die beim Zuhörer das schönste Echo ausz
 ulösen vermag.” Ssirus W. Pakzad / Jazzthing 2018\n\n… Ein Weltmeiste
 r des Blechs und eine Fee der Stimme - so kann man das Programm von Tamara
  Lukasheva und Matthias Schriefl überschreiben. Matria verbindet verschie
 dene süddeutsche Volksmusikarten (z. B. Jodler\, Almlieder\, Zwiefache) m
 it ukrainischer Volksmusik\, ein groovendes Alphorn mit dem Gesang der ukr
 ainischen Karpaten\, Improvisation und Freiheit mit Tradition aus beiden L
 ändern.\nDie Welt ist seit dem 24. Februar nicht mehr so\, wie sie vorher
  war. Matria macht Musik\, die zu einer Zuflucht wird\, die Menschen verbi
 ndet – in einer Weltlage\, die erst zögerlich in der Alltagsnormalität
  vieler Menschen ankommt und jeden Tag aufs Neue das bis dahin Vorstellbar
 e sprengt.\n"Da agieren Menschen\, auf deren emotionale und produktive Ene
 rgie im Zentrum von Bedrohung\, Verzweiflung und Ohnmacht Verlass ist. Noc
 h wissen wir nicht\, ob solche Ressourcen irgendwann den Wahn eines einsam
 en Despoten zu brechen vermögen (…) Die Stücke dieses Konzerts zeigten
 \, dass Musik doch immer in erster Linie Liebeserklärung und nicht Waffe 
 ist. Gerade für diesen Aspekt erweist sich Trompeter Matthias Schriefl al
 s idealer Partner\, wenn er Bezüge zu seiner alpenländischen Prägung in
 s Spiel bringt\, aber auch zeigt\, dass er selbst in ukrainischer Musik se
 hr wohl zu Hause ist. Als er schließlich auf dem Alphorn im virtuosen Due
 tt mit den zarten Gesangslinien von Lukasheva kommuniziert\, lebt real-exi
 stierende kulturelle Nachbarschaft. Auch die ist hinter den Mauern des Kre
 mls anscheinend so gefürchtet und verachtet“\, schrieb Stefan Pieper zu
  einem Konzert der beiden im Kölner Stadtgarten.\nTamara hatte 2016 hatte
  mit dem Duo Matria ihre erste CD-Veröffentlichung auf dem deutschen Mark
 t. 2017 hat sie den Neuen Deutschen Jazzpreis in Osnarbrück mit ihrem Qua
 rtett und 2021 den WDR-Jazzpreis für Komposition gewonnen.\nBesetzung:\nT
 amara Lukasheva – Gesang\, Klavier\, Melodika\nMatthias Schriefl – Tro
 mpete\, Flügelhorn\, Tuba\, Euphonium\, Alphorn\, Gesang\, Akkordeon\n\nW
 elthaus Bielefeld e.V. in Zusammenarbeit mit Kultur vor Ort\nGefördert vo
 m Ministerium für Kultur und Wissenschaft des Landes NRW\n\nEintritt: VVK
  10\, AK 15 Euro\nVVK online: Eventim Light\n\n\n\n
ATTACH;FMTTYPE=image/jpeg:https://www.lilabi.net/wp-content/uploads/2025/0
 5/2025-Weltnacht_Matria.jpg
CATEGORIES:Konzert,Musik
LOCATION:Dietrich Bonhoeffer-Haus der Ev. Kirchengemeinde\, Brockhagener St
 r. 28\, Steinhagen\, Deutschland
X-APPLE-STRUCTURED-LOCATION;VALUE=URI;X-ADDRESS=Brockhagener Str. 28\, Stei
 nhagen\, Deutschland;X-APPLE-RADIUS=100;X-TITLE=Dietrich Bonhoeffer-Haus d
 er Ev. Kirchengemeinde:geo:0,0
END:VEVENT
BEGIN:VTIMEZONE
TZID:Europe/Berlin
X-LIC-LOCATION:Europe/Berlin
BEGIN:DAYLIGHT
DTSTART:20250330T030000
TZOFFSETFROM:+0100
TZOFFSETTO:+0200
TZNAME:CEST
END:DAYLIGHT
END:VTIMEZONE
END:VCALENDAR