BEGIN:VCALENDAR
VERSION:2.0
PRODID:-//wp-events-plugin.com//7.2.3.1//EN
TZID:Europe/Berlin
X-WR-TIMEZONE:Europe/Berlin
BEGIN:VEVENT
UID:7014@lilabi.net
DTSTART;TZID=Europe/Berlin:20260516T193000
DTEND;TZID=Europe/Berlin:20260516T193000
DTSTAMP:20260421T142640Z
URL:https://www.lilabi.net/events/weltnacht-manou-gallo-support-stella-haa
 strup-kuenstlerinnen-aus-westfalen-und-weltweit/
SUMMARY:Weltnacht: Manou Gallo\, Support: Stella Haastrup – Künstlerinne
 n aus Westfalen und weltweit
DESCRIPTION:Stella Haastrup\, Beginn 19:30 Uhr\n\nZwischen zwei Sprachen\, 
 zwei Kulturen und vielen Gefühlen findet die afrodeutsche Songwriterin St
 ella Haastrup ihre eigene Stimme. In ihren Songs verbindet sie deutsche un
 d englische Lyrics zu intimen Geschichten über Identität\, Zugehörigkei
 t\, Liebe und Selbstfindung.\n\nIhre Musik ist geprägt von warmen Melodie
 n\, reduzierten Arrangements und Texten\, die unter die Haut gehen. Mal fr
 agil und poetisch\, mal klar und gesellschaftskritisch\, erzählt Stella H
 aastrup von persönlichen Erfahrungen als afrodeutsche Künstlerin in eine
 r komplexen Welt.\n\nDie Zweisprachigkeit ist dabei kein Stilmittel\, sond
 ern Ausdruck ihrer Lebensrealität: Deutsch für die feinen Nuancen des Al
 ltags\, Englisch für die weiten Gefühle zwischen den Zeilen. So entstehe
 n Songs\, die Grenzen überschreiten und ein diverses Publikum ansprechen.
 \n\nMit ihrer authentischen Art und ihrem Gespür für ehrliches Storytell
 ing positioniert sich Stella Haastrup als neue Stimme im zeitgenössischen
  Singer-Songwriter-Kosmos. Ihre Musik lädt zum Zuhören\, Nachdenken und 
 Fühlen ein – leise\, aber nachhaltig.\n\nManou Gallo – Die Königin d
 es Afro-Groove\, Beginn 20:00Uhr  \n\nDie Bassistin und Sängerin aus de
 r Côte d'Ivoire verbindet afrikanische Rhythmen\, Afro-Funk\, Jazz und We
 ltmusik zu einem neuen Stil mit faszinierender Bühnenpräsenz. Als intern
 ational anerkannte Musikerin arbeitete Manou Gallo unter anderem mit Boots
 y Collins\, Manu Dibango und Wyclef Jean zusammen. Ihr markanter Bass und 
 ihre ausdrucksstarke Stimme prägen ein Klangbild\, in dem sich Tradition 
 und Moderne extrem spannend ergänzen.\n\nWer sie einmal erlebt hat\, erke
 nnt die Einzigartigkeit sofort: Der Bass wird in ihren Händen auch mal zu
 m Percussion-Element und treibt den Groove in faszinierende Höhen. Nicht 
 umsonst bezeichnet Bootsy Collins sie als „African Queen of Bass“.\n\n
 Stolz auf ihre afrikanischen Wurzeln\, sagt Gallo\, dass sie die musikalis
 che Freiheit besitzt\, alles zu spielen. Und genau diese Freiheit findet s
 ich auf der Bühne wieder: Eine explosive Mischung aus Funk\, Jazz\, Afro-
 kubanischen Rhythmen bis hin zu selbstbewussten Afro-Grooves.\n\nFoto: Nja
 heut\n\nBesetzung:\nManou Gallo – Bass\, Stimme\nYannick Werther – Git
 arre\nNorman Peplow – Keyboards\nJaphet Boristhene – Schlagzeug\nRuben
  Hernandez – Trompete\nGaspard Gierse – Saxophon\n\nVeranstalter: Welt
 haus Bielefeld e.V. in Zusammenarbeit mit dem Kulturzentrum BÜZ\nGeförde
 rt vom Ministerium für Kultur und Wissenschaft des Landes NRW
ATTACH;FMTTYPE=image/jpeg:https://www.lilabi.net/wp-content/uploads/2026/0
 4/Weltnacht-2026_Manou-Gallo_Foto-Njaheut.jpg
CATEGORIES:Konzert,Musik
LOCATION:\, \, 
X-APPLE-STRUCTURED-LOCATION;VALUE=URI;X-ADDRESS=\, ;X-APPLE-RADIUS=100;X-TI
 TLE=:geo:0,0
END:VEVENT
BEGIN:VTIMEZONE
TZID:Europe/Berlin
X-LIC-LOCATION:Europe/Berlin
BEGIN:DAYLIGHT
DTSTART:20260329T030000
TZOFFSETFROM:+0100
TZOFFSETTO:+0200
TZNAME:CEST
END:DAYLIGHT
END:VTIMEZONE
END:VCALENDAR