BEGIN:VCALENDAR
VERSION:2.0
PRODID:-//wp-events-plugin.com//7.2.3.1//EN
TZID:Europe/Berlin
X-WR-TIMEZONE:Europe/Berlin
BEGIN:VEVENT
UID:7020@lilabi.net
DTSTART;TZID=Europe/Berlin:20261128T200000
DTEND;TZID=Europe/Berlin:20261128T200000
DTSTAMP:20260421T142709Z
URL:https://www.lilabi.net/events/weltnacht-malia-band-kuenstlerinnen-aus-
 westfalen-und-weltweit/
SUMMARY:Weltnacht: Malia &amp\; Band – Künstlerinnen aus Westfalen und w
 eltweit
DESCRIPTION:Die aus Malawi stammende\, 2013 mit dem Echo preisgekrönte Sä
 ngerin zog als Teenager nach London\, wo sie dank vielfältiger musikalisc
 her Einflüsse nach und nach ihren ganz eigenen Stil aus Cool Jazz\, Pop\,
  Soul\, Reggae und Blues entwickelte. Ebenso facettenreich ist ihre samtig
 -kraftvolle Stimme\, mit der sie sich souverän zwischen Genres und Emotio
 nen bewegt.\n\nMalia ist bekannt für ihre ausdrucksstarke Stimme. Mal wir
 d die aus dem ostafrikanischen Malawi stammende Sängerin Malia als die pu
 re Verkörperung des coolen Neo-Souljazz\, dann wieder als Erneuerin der S
 angestradition der großen Jazz-Diven wie Billie Holiday oder Nina Simone 
 genannt – aber ebenso als Musikerin\, die traditionelle afrikanische Kl
 änge neu belebt. Die Kosmopolitin bewegt sich selbstsicher und gekonnt in
  den Genres Soul\, Blues und Jazz. Mit ihrem Debutalbum „Yellow Daffodil
 s“ gelingt ihr sofort ein Charterfolg\, ihr Video „Purple Shoes“ wir
 d zur Legende. Im Jahr 2013 folgte dann die Auszeichnung des ECHO JAZZ als
  "Internationale Sängerin des Jahres". Mit all ihren Konzertauftritten un
 d mittlerweile sieben Schallplatten hat sich Malia in der obersten Liga de
 r gegenwärtigen Jazz-und Souldamen etabliert.\n\nBesetzung:\nMalia: Gesan
 g\nLaurent Seriès: Schlagzeug\nAlexandre Saada: Klavier)\nJean Daniel Bot
 ta: Kontrabass\n\n[Eintritt: VVK 24 Euro/erm. 20 Euro\, AK 30 Euro/erm. 26
  Euro\, Empfänger*innen von Grundsicherung 1 Euro (nur AK)\, bis 12 Jahre
  Eintritt frei]\n\nIn Kooperation mit dem Kulturamt Bielefeld\nGefördert 
 vom Ministerium für Kultur und Wissenschaft des Landes NRW
ATTACH;FMTTYPE=image/jpeg:https://www.lilabi.net/wp-content/uploads/2026/0
 4/2026_Malia_Weltnacht.jpg
CATEGORIES:Konzert,Musik
LOCATION:Rudolf-Oetker-Halle\, Lampingstraße 16\, Bielefeld\, Deutschland
X-APPLE-STRUCTURED-LOCATION;VALUE=URI;X-ADDRESS=Lampingstraße 16\, Bielefe
 ld\, Deutschland;X-APPLE-RADIUS=100;X-TITLE=Rudolf-Oetker-Halle:geo:0,0
END:VEVENT
BEGIN:VTIMEZONE
TZID:Europe/Berlin
X-LIC-LOCATION:Europe/Berlin
BEGIN:STANDARD
DTSTART:20261025T020000
TZOFFSETFROM:+0200
TZOFFSETTO:+0100
TZNAME:CET
END:STANDARD
END:VTIMEZONE
END:VCALENDAR