BEGIN:VCALENDAR
VERSION:2.0
PRODID:-//wp-events-plugin.com//7.2.3.1//EN
TZID:Europe/Berlin
X-WR-TIMEZONE:Europe/Berlin
BEGIN:VEVENT
UID:7017@lilabi.net
DTSTART;TZID=Europe/Berlin:20260918T200000
DTEND;TZID=Europe/Berlin:20260918T200000
DTSTAMP:20260421T142654Z
URL:https://www.lilabi.net/events/weltnacht-lucy-kruger-and-the-lost-boys-
 kuenstlerinnen-aus-westfalen-und-weltweit/
SUMMARY:Weltnacht: Lucy Kruger and The Lost Boys – Künstlerinnen aus Wes
 tfalen und weltweit
DESCRIPTION:Lucy Kruger &amp\; The Lost Boys ist eine Art-Pop-/Tender-Noise
 -Band\, die sich durch ihre Offenheit für klangliche Transformation ausze
 ichnet. Gegründet wurde das Projekt 2015 von der in Südafrika geborenen 
 Frontfrau\, Singer-Songwriterin und Gitarristin.\n\nDer Sound der Band bew
 egt sich zwischen Zurückhaltung und Entfesselung: Krugers Stimme erklimmt
  die Wände aus ambientem Lärm\, webt gleichermaßen Flüstern und kehlig
 -rituelle Beschwörungen durch eine geisterhafte\, post-punkige Klanglands
 chaft – eine Stimme\, die genau weiß\, wann sie schweigen und wann sie 
 weinen muss.\nDie intensiven Live-Auftritte der Band – mühelos zwischen
  Intimität und Hingabe wechselnd – werden für ihre emotionale Präzisi
 on und Kraft gefeiert. Zusammengehalten werden sie durch das enge\, intuit
 ive Zusammenspiel von Liú Mottes (Gitarre)\, Jean-Louise Parker (Viola)\,
  Gidon Carmel (Schlagzeug) und Andreas Bonkowski (Bass). Der Sound zieht V
 ergleiche zu Sonic Youth\, PJ Harvey und Nick Cave &amp\; the Bad Seeds.\n
 \nIm Jahr 2026 wird die Band ihr siebtes Studioalbum "Pale Bloom" veröffe
 ntlichen und auf Tour gehen – eine schimmernde klangliche Emulsion\, die
  sich im Körper der Hörenden entfaltet wie ein erwachtes Verlangen\, das
  sich ins Dasein streckt.\n\nFoto: Mitch Stöhring\n\n[Eintritt: VVK 22 Eu
 ro zzgl. Gebühren\, AK 28 Euro]\n\nVeranstalter: Welthaus Bielefeld e.V. 
 in Zusammenarbeit mit Forum Bielefeld\nGefördert vom Ministerium für Kul
 tur und Wissenschaft des Landes NRW
ATTACH;FMTTYPE=image/jpeg:https://www.lilabi.net/wp-content/uploads/2026/0
 4/Weltnacht-2026_Lucy-Kruger_Image-by-MITCH-STOEHRING.jpg
CATEGORIES:Konzert,Musik
LOCATION:Forum Bielefeld\, Meller Strasse 2\, Bielefeld\, Deutschland
X-APPLE-STRUCTURED-LOCATION;VALUE=URI;X-ADDRESS=Meller Strasse 2\, Bielefel
 d\, Deutschland;X-APPLE-RADIUS=100;X-TITLE=Forum Bielefeld:geo:0,0
END:VEVENT
BEGIN:VTIMEZONE
TZID:Europe/Berlin
X-LIC-LOCATION:Europe/Berlin
BEGIN:DAYLIGHT
DTSTART:20260329T030000
TZOFFSETFROM:+0100
TZOFFSETTO:+0200
TZNAME:CEST
END:DAYLIGHT
END:VTIMEZONE
END:VCALENDAR