BEGIN:VCALENDAR
VERSION:2.0
PRODID:-//wp-events-plugin.com//7.2.3.1//EN
TZID:Europe/Berlin
X-WR-TIMEZONE:Europe/Berlin
BEGIN:VEVENT
UID:7018@lilabi.net
DTSTART;TZID=Europe/Berlin:20260920T190000
DTEND;TZID=Europe/Berlin:20260920T190000
DTSTAMP:20260421T142659Z
URL:https://www.lilabi.net/events/weltnacht-les-bruenettes-kuenstlerinnen-
 aus-westfalen-und-weltweit/
SUMMARY:Weltnacht: Les Brünettes – Künstlerinnen aus Westfalen und welt
 weit
DESCRIPTION:Was für ein Meilenstein! Die A-cappella-Band Les Brünettes fe
 iert stolze 15 Jahre voller Musik\, Freundschaft und kreativer Abenteuer. 
 Seit 2010 haben Juliette Brousset\, Stephanie Neigel\, Julia Pellegrini un
 d Lisa Herbolzheimer die Bühnen mit ihrem einzigartigen Sound erobert und
  sich als eine der führenden weiblichen A-cappella-Gruppen etabliert. Was
  als musikalisches Zusammentreffen begann\, entwickelte sich zu einer tief
 en persönlichen und kreativen Verbindung. Sie veröffentlichten fünf Alb
 en\, sangen in den Abbey Road Studios durch die Mikrophone der Beatles\, i
 n der Elbphilharmonie Hamburg und im Heute-Journal\, auf Französisch\, It
 alienisch\, Spanisch\, Englisch und Deutsch\, gewannen Preise und gründet
 en – ja\, das auch noch! – Familien. Dass dabei nicht immer alles rosi
 g läuft\, scheint die vier nicht auseinander- sondern eher zusammen zu br
 ingen\; sie arbeiten seit ihrer Gründung in Originalbesetzung. Die jungen
  Jazzstudentinnen entwickeln sich weiter zu gefeierten Interpretinnen der 
 Beatles\, Arrangeurinnen\, Songwriterinnen\, die sogar ein Album mit nur e
 igenen Stücken herausbringen. Dabei darf und kann jede der vier auf ihre 
 ganz eigene Art strahlen.\n\nUm diesen besonderen Anlass gebührend zu fei
 ern\, gehen Les Brünettes seit letztem Jahr auf Jubiläumstournee. Mit Ko
 nzerten\, die eine aufregende musikalische Reise durch die Höhepunkte ihr
 er Karriere versprechen\, von ihren frühen Anfängen bis hin zu preisgekr
 önten Auftritten auf internationalen Bühnen. Mit typischer Leidenschaft 
 und Energie schaffen es Les Brünettes\, ihr Publikum zu verzaubern. Nicht
  nur eingefleischte Fans dürfen sich auf Lieblingsstücke und Klassiker a
 us ihren bisherigen Programmen freuen.\n\nNach ihrem umjubelten Auftritt v
 or fünf Jahren in der Martin-Luther-Kirche können sich die Freund*innen 
 der Vokalkunst auf ein Wiedersehen in der Gütersloher Apostelkirche freue
 n.\n\n[Eintritt: VVK 25 Euro\, AK 30 Euro]\n\nVeranstalter: Welthaus Biele
 feld e.V. in Zusammenarbeit mit der Stadtkirchenarbeit der Evangelischen K
 irchengemeinde Gütersloh.\nGefördert vom Ministerium für Kultur und Wis
 senschaft des Landes NRW
ATTACH;FMTTYPE=image/jpeg:https://www.lilabi.net/wp-content/uploads/2026/0
 4/Weltnacht-2026_Les-Brunettes.jpg
CATEGORIES:Konzert,Musik
LOCATION:Apostelkirche Gütersloh\, Am Alten Kirchplatz 1\, Gütersloh\, De
 utschland
X-APPLE-STRUCTURED-LOCATION;VALUE=URI;X-ADDRESS=Am Alten Kirchplatz 1\, Gü
 tersloh\, Deutschland;X-APPLE-RADIUS=100;X-TITLE=Apostelkirche Gütersloh:
 geo:0,0
END:VEVENT
BEGIN:VTIMEZONE
TZID:Europe/Berlin
X-LIC-LOCATION:Europe/Berlin
BEGIN:DAYLIGHT
DTSTART:20260329T030000
TZOFFSETFROM:+0100
TZOFFSETTO:+0200
TZNAME:CEST
END:DAYLIGHT
END:VTIMEZONE
END:VCALENDAR