BEGIN:VCALENDAR
VERSION:2.0
PRODID:-//wp-events-plugin.com//7.2.3.1//EN
TZID:Europe/Berlin
X-WR-TIMEZONE:Europe/Berlin
BEGIN:VEVENT
UID:7016@lilabi.net
DTSTART;TZID=Europe/Berlin:20260829T090000
DTEND;TZID=Europe/Berlin:20260829T150000
DTSTAMP:20260421T142650Z
URL:https://www.lilabi.net/events/weltnacht-kulturhammer-mit-musikflohmark
 t-the-sixters-u-a-kuenstlerinnen-aus-westfalen-und-weltweit/
SUMMARY:Weltnacht: Kulturhammer mit Musikflohmarkt\, The Sixters u. a. – 
 Künstlerinnen aus Westfalen und weltweit
DESCRIPTION:The Sixsters ist eine Rockband\, bestehend aus fünf talentiert
 en Musikerinnen\, die ihre Leidenschaft für Songwriting und energiegelade
 ne Live-Auftritte miteinander verbinden. Mit einem Sound\, der Rock\, Pop 
 und Punk vereint\, bauen sie sich seit ihrer Gründung im Jahr 2018 kontin
 uierlich einen Namen in Europa auf.\nDie Band hat ihren Sitz in Essen und 
 veröffentlichte im März 2024 ihr zweites englischsprachiges Album „To 
 Be Continued..." Jeder Song gewährt Einblicke in persönliche Geschichten
  und Gefühle – mit dem Wunsch\, Zuhörer*innen zu berühren und etwas E
 chtes\, Aufmunterndes mitzugeben.\nIn den letzten Jahren standen The Sixst
 ers auf großen Festivalbühnen\, darunter Glastonbury (UK)\, Open Flair u
 nd Bochum Total (DE). 2023 wurden sie Teil der Fame Instruments Familie al
 s of zielle Künstlerinnen. Im September 2023 folgte ein weiterer Meilenst
 ein: Sie eröffneten zwei Shows für die Beatsteaks in München und Wien 
 – vor jeweils über 7.000 Menschen.\nIm Zentrum ihrer Musik steht eine k
 lare Botschaft: Motivation und Selbstvertrauen – besonders für junge Fr
 auen\, die ihren eigenen Weg gehen und Herausforderungen meistern.\n\nProg
 ramm:\n9:00 Uhr Start (Musikflohmarkt\, Porzellan bemalen\, Solar-Bobbycar
 -Rennen)\n10:00 Uhr Feuerwehrorchester\n11:00 Uhr Silent Green\n12:00 Uhr 
 The Sixters\n13:30 Uhr: BAV\n\nVeranstalter: Welthaus Bielefeld e.V. in Zu
 sammenarbeit mit Recyclingbörse Herford\nGefördert vom Ministerium für 
 Kultur und Wissenschaft des Landes NRW\n\nEintritt frei
ATTACH;FMTTYPE=image/jpeg:https://www.lilabi.net/wp-content/uploads/2026/0
 4/2026-The-Sixsters-Weltnacht.jpg
CATEGORIES:Konzert,Musik,Sonstiges
LOCATION:\, \, 
X-APPLE-STRUCTURED-LOCATION;VALUE=URI;X-ADDRESS=\, ;X-APPLE-RADIUS=100;X-TI
 TLE=:geo:0,0
END:VEVENT
BEGIN:VTIMEZONE
TZID:Europe/Berlin
X-LIC-LOCATION:Europe/Berlin
BEGIN:DAYLIGHT
DTSTART:20260329T030000
TZOFFSETFROM:+0100
TZOFFSETTO:+0200
TZNAME:CEST
END:DAYLIGHT
END:VTIMEZONE
END:VCALENDAR