BEGIN:VCALENDAR
VERSION:2.0
PRODID:-//wp-events-plugin.com//7.2.3.1//EN
TZID:Europe/Berlin
X-WR-TIMEZONE:Europe/Berlin
BEGIN:VEVENT
UID:5742@lilabi.net
DTSTART;TZID=Europe/Berlin:20241019T200000
DTEND;TZID=Europe/Berlin:20241019T200000
DTSTAMP:20240717T125309Z
URL:https://www.lilabi.net/events/weltnacht-konzert-hilde-kuenstlerinnen-a
 us-westfalen-und-weltweit/
SUMMARY:Weltnacht-Konzert: HILDE – Künstlerinnen aus Westfalen und weltw
 eit
DESCRIPTION:\n\nEine große Stärke von HILDE besteht darin\, völlig unerw
 artete\, manchmal geradezu tollkühne Scharniere zwischen abstrakter Klang
 findung und traditioneller Anmut zu finden. Diese seltene Gabe offenbart s
 ich vor allem in ihren Live-Konzerten.\nFür ihr neues Album “Tide” ha
 t die Band bewusst die Entscheidung getroffen\, dieses Verhältnis ein erh
 ebliches Stück in Richtung experimentelle Sinnlichkeit zu verschieben. Vo
 n wem welcher spielerische Impuls\, welche Klangfarbe\, Komposition oder s
 pontane Idee kommt\, spielt kaum eine Rolle. Vier Musikerinnen wachsen zu 
 einer Person zusammen\, zu HILDE\, einem Individuum mit vier Köpfen und a
 cht Armen\, das uns auf „Tide“ mit massiver Sanftheit gegenüber tritt
 .\n„Wir mögen schöne Sachen“\, ruft HILDE unisono aus. Improvisation
  ist für sie ein Ausdruck von Freiheit\, der nichts ausschließt und alle
 s zulässt. Was an sich wie eine Selbstverständlichkeit klingt\, ist das 
 – wie uns 60 Jahre frei improvisierter Musik ernüchternd vor Augen füh
 ren – ganz und gar nicht. Schöne Sounds\, Wohlklang und einprägsame Li
 edstrukturen sind auf „Tide“ keine peinlichen Ausrutscher\, sondern ü
 beraus gewollt.\nDer Grundstein für diese intuitive Geschlossenheit liegt
  viel tiefer als das viel zitierte gegenseitige Vertrauen innerhalb einer 
 Band. Er beruht auf einer in dieser Unverbrüchlichkeit selten gelebten wo
 hlwollenden Verlässlichkeit\, welche jede der vier Musikerinnen ein Gefü
 hl der Sicherheit gibt\, die sie braucht\, um als HILDE zum Äußersten ge
 hen zu können und immer das Innerste zu erreichen – und umgekehrt.\n(Te
 xt: Wolf Kampmann)\n\nBesetzung:\nJulia Brüssel – Geige\nMarie Daniels 
 – Stimme\nMaria Trautmann – Posaune\nEmily Wittbrodt – Cello\n\nVera
 nstalter: Kultur vor Ort in Zusammenarbeit mit Welthaus Bielefeld\nGeförd
 ert durch die LWL Kulturstiftung und das Ministerium für Kultur und Wisse
 nschaft des Landes NRW\n\n[Eintritt VVK: 10 Euro/erm. 8 Euro\, AK: 15 Euro
 /erm. 10 Euro]\n\n
ATTACH;FMTTYPE=image/jpeg:https://www.lilabi.net/wp-content/uploads/2024/0
 7/2024_HILDE_Weltnacht_Foto-Anna-Sorgalla.jpg
LOCATION:Rathaus Steinhagen\, Am Pulverbach 25\, Steinhagen\, Deutschland
X-APPLE-STRUCTURED-LOCATION;VALUE=URI;X-ADDRESS=Am Pulverbach 25\, Steinhag
 en\, Deutschland;X-APPLE-RADIUS=100;X-TITLE=Rathaus Steinhagen:geo:0,0
END:VEVENT
BEGIN:VTIMEZONE
TZID:Europe/Berlin
X-LIC-LOCATION:Europe/Berlin
BEGIN:DAYLIGHT
DTSTART:20240331T030000
TZOFFSETFROM:+0100
TZOFFSETTO:+0200
TZNAME:CEST
END:DAYLIGHT
END:VTIMEZONE
END:VCALENDAR