BEGIN:VCALENDAR
VERSION:2.0
PRODID:-//wp-events-plugin.com//7.2.3.1//EN
TZID:Europe/Berlin
X-WR-TIMEZONE:Europe/Berlin
BEGIN:VEVENT
UID:5741@lilabi.net
DTSTART;TZID=Europe/Berlin:20241002T200000
DTEND;TZID=Europe/Berlin:20241002T200000
DTSTAMP:20240717T125255Z
URL:https://www.lilabi.net/events/weltnacht-konzert-dobet-gnahore-kuenstle
 rinnen-aus-westfalen-und-weltweit/
SUMMARY:Weltnacht-Konzert: Dobet Gnahoré – Künstlerinnen aus Westfalen 
 und weltweit
DESCRIPTION:Man kann die Sängerin\, Tänzerin und Perkussionistin Dobet Gn
 ahoré durchaus als eine der Superstars des afrikanischen Kontinents bezei
 chnen. Sie wuchs in einer Künstlerfamilie auf und kann auf eine lange Kar
 riere zurückblicken\, in der sie 2010 einen Grammy Award gewann und über
  800 Konzerte weltweit spielte. Den Corona-Lockdown hat sie produktiv genu
 tzt und ihr sechstes Album „Couleur“ in Abidjan aufgenommen. Entstande
 n ist wieder einmal ein tanzbares Werk\, in dem sich die verschiedenen Sou
 nds des urbanen Westafrikas wiederfinden. Live überzeugt sie nicht nur du
 rch ihr energiegeladene Programm und ihre unverwechselbare Stimme\, sonder
 n vor allem auch durch ihre legendären Tanzeinlagen.\nDobet Gnahoré\, Af
 ro-Pop-Diva aus Côite d‘ Ivoire\, wird gern mit Angélique Kidjo und Mi
 riam Makeba verglichen. Sie singt betörende panafrikanische Balladen! In 
 bester Manier einer Chansonnière komponiert und textet die Sängerin ihre
  Lieder selbst. Sie vermittelt in den Sprachen Bété\, Lingala und Wolof 
 ein Bild ihres ganz eigenen Afrikas und singt offen über die Liebe\, den 
 Tod\, die Ausbeutung der Frauen und Kinder in Afrika.\nDazu gestaltet ihr 
 virtuoses Ensemble feingliedrige pan-afrikanische und zeitlos wirkende Arr
 angements mit westafrikanischen Mandingo-Melodien\, ivorischen Ziglibiti-G
 itarrenläufen\, kongolesischen Rumba-Rhythmen\, kamerunischem Bikutsi-Pop
  und ghanaischem Highlife-Sound – legendär ihre atemberaubenden Tanzein
 lagen!\n\nWelthaus Bielefeld in Kooperation mit dem Kulturamt Bielefeld\nG
 efördert vom Ministerium für Kultur und Wissenschaft NRW\, der LWL-Kultu
 rstiftung und der Sparkasse Bielefeld\n\n[Eintritt: VVK 25 Euro/erm. 20 Eu
 ro\, AK 30 Euro/erm. 25 Euro\, Bürgergeld-Empfänger*innen 1 Euro (nur AK
 ) / bis 12 Jahre Eintritt frei]\nVVK: An allen bekannten Vorverkaufsstelle
 n in Bielefeld\nKarten online: loveyourartist.com/de/profiles/welthaus-ZS9
 SP6/events
ATTACH;FMTTYPE=image/jpeg:https://www.lilabi.net/wp-content/uploads/2024/0
 7/2024_Dobet-Gnahore_-Foto-Jean-Goun_2.jpg
CATEGORIES:Konzert,Musik
LOCATION:Rudolf-Oetker-Halle\, Lampingstraße 16\, Bielefeld\, Deutschland
X-APPLE-STRUCTURED-LOCATION;VALUE=URI;X-ADDRESS=Lampingstraße 16\, Bielefe
 ld\, Deutschland;X-APPLE-RADIUS=100;X-TITLE=Rudolf-Oetker-Halle:geo:0,0
END:VEVENT
BEGIN:VTIMEZONE
TZID:Europe/Berlin
X-LIC-LOCATION:Europe/Berlin
BEGIN:DAYLIGHT
DTSTART:20240331T030000
TZOFFSETFROM:+0100
TZOFFSETTO:+0200
TZNAME:CEST
END:DAYLIGHT
END:VTIMEZONE
END:VCALENDAR