BEGIN:VCALENDAR
VERSION:2.0
PRODID:-//wp-events-plugin.com//7.2.3.1//EN
TZID:Europe/Berlin
X-WR-TIMEZONE:Europe/Berlin
BEGIN:VEVENT
UID:5949@lilabi.net
DTSTART;TZID=Europe/Berlin:20250910T190000
DTEND;TZID=Europe/Berlin:20250910T220000
DTSTAMP:20250506T134033Z
URL:https://www.lilabi.net/events/weltnacht-ink-kuenstlerinnen-aus-westfal
 en-und-weltweit/
SUMMARY:Weltnacht: Ink – Künstlerinnen aus Westfalen und weltweit
DESCRIPTION:Ink ist die außergewöhnliche Verbindung zweier Musikerseelen\
 , die sich gesucht und gefunden haben. Stella Haastrup und Phil Wood schre
 iben und zelebrieren allerfeinste handgemachte akustische Musik\, die unte
 r die Haut geht.\nStellas virtuose Stimme verzaubert mit Charme und Soul w
 ährend Phils Gitarrenspiel weiche Nuancen zwischen den Zeilen kreiert. Se
 lbstgeschriebene Songs\, improvisierte Spontaneinlagen und tolle Kompositi
 onen sorgen für ein faszinierendes Liveerlebnis!\nAbwechslungsreich forme
 n die beiden zwischen Soul\, Americana\, Blues und Jazz ein erfrischendes 
 Programm in bester Songwritingtradition. Zwei Gitarren und zwei Stimmen. M
 ehr braucht es nicht\, wenn man Musik in ihrer pursten und ehrlichsten For
 m erleben will. Nicht verpassen!\n\nVeranstalter: Welthaus Bielefeld in Zu
 sammenarbeit dem Kulturamt Bielefeld\nGefördert vom Ministerium für Kult
 ur und Wissenschaft NRW\n\nEintritt frei\, Spende willkommen
ATTACH;FMTTYPE=image/jpeg:https://www.lilabi.net/wp-content/uploads/2025/0
 5/2025-Weltnacht_Ink.jpg
CATEGORIES:Konzert,Musik
LOCATION:Bielefeld Kesselbrink\, Kesselbrink\, Bielefeld\, NRW\, 33602\, OW
 L\, Deutschland
X-APPLE-STRUCTURED-LOCATION;VALUE=URI;X-ADDRESS=Kesselbrink\, Bielefeld\, N
 RW\, 33602\, OWL\, Deutschland;X-APPLE-RADIUS=100;X-TITLE=Bielefeld Kessel
 brink:geo:0,0
END:VEVENT
BEGIN:VTIMEZONE
TZID:Europe/Berlin
X-LIC-LOCATION:Europe/Berlin
BEGIN:DAYLIGHT
DTSTART:20250330T030000
TZOFFSETFROM:+0100
TZOFFSETTO:+0200
TZNAME:CEST
END:DAYLIGHT
END:VTIMEZONE
END:VCALENDAR