BEGIN:VCALENDAR
VERSION:2.0
PRODID:-//wp-events-plugin.com//7.2.3.1//EN
TZID:Europe/Berlin
X-WR-TIMEZONE:Europe/Berlin
BEGIN:VEVENT
UID:5953@lilabi.net
DTSTART;TZID=Europe/Berlin:20251121T200000
DTEND;TZID=Europe/Berlin:20251121T230000
DTSTAMP:20251118T155009Z
URL:https://www.lilabi.net/events/weltnacht-elsa-johanna-mohr-kuenstlerinn
 en-aus-westfalen-und-weltweit/
SUMMARY:[FÄLLT AUS!!!] Weltnacht: Elsa Johanna Mohr – Künstlerinnen aus
  Westfalen und weltweit
DESCRIPTION:[FÄLLT AUS!!!]\n\nDie Sängerin Elsa Johanna Mohr und der Gita
 rrist Flávio Nunes widmen sich sowohl mit bekannten brasilianischen Klass
 ikern wie etwa »Carinhoso« oder »Tempo de Amor« als auch mit Eigenkomp
 ositionen der kunterbunten Vielfalt brasilianischer Musik und schaffen dam
 it einen weiten Überblick auf ein kulturell so reiches und wunderschönes
  Land.\nElsa Johanna Mohr lebte für 1 1/2 Jahre in Brasilien und studiert
 e portugiesische Literaturwissenschaft in München sowie Jazzgesang in Osn
 abrück. Ihre Stücke schreibt sie auf Portugiesisch\, womit sie sich naht
 los in die Reihe der brasilianischen Klassiker einreihen. Vor fünf Jahren
  lernte Mohr in Düsseldorf den aus São Paulo stammenden Gitarristen Flá
 vio Nunes kennen. Die beiden verbindet seitdem eine gemeinsame musikalisch
 e Sprache\, mit der sie die brasilianische Lebenslust und die altbekannte 
 Sehnsucht der Brasilianer*innen zum Ausdruck bringen.\nIm Januar 2023 brac
 hte das Duo sein erstes gemeinsames Album im Rahmen der »Jazz Thing Next 
 Generation«-Reihe (Double Moon/Bertus) heraus. Die klare Diktion und der 
 ungezwungene Stil von Mohrs Gesang machen das Album »Passadinha« zu eine
 m kleinen Juwel – die Neue Osnabrücker Zeitung bescheinigte ihr schon\,
  zu singen\, »als sei sie am Zuckerhut aufgewachsen« – zu dem Nunes di
 e komplexesten Rhythmen mit atemberaubender Leichtigkeit beherrscht und de
 m lässigen Gesang Tiefe und eine zusätzliche Dimension verleiht.\n\nFoto
 : Ferry Mohr\n\nWelthaus Bielefeld e.V. in Zusammenarbeit mit dem Kulturam
 t Bielefeld\nGefördert vom NRW Kultursekretariat und dem Ministerium für
  Kultur und Wissenschaft des Landes NRW\n\nEintritt: VVK 12 Euro/erm. 10 E
 uro\, AK 16 Euro/erm. 14 Euro/BI-Pass 1 Euro (Kulturöffner)\n\n[FÄLLT AU
 S!!!]
ATTACH;FMTTYPE=image/jpeg:https://www.lilabi.net/wp-content/uploads/2025/0
 5/2025_Weltnacht_Elsa-Johanna-Mohr_Foto-Ferry-Mohr.jpg
CATEGORIES:Konzert,Musik
LOCATION:Kulturamt Bielefeld\, Kavalleriestr. 17\, Bielefeld\, NRW\, 33602\
 , Deutschland
X-APPLE-STRUCTURED-LOCATION;VALUE=URI;X-ADDRESS=Kavalleriestr. 17\, Bielefe
 ld\, NRW\, 33602\, Deutschland;X-APPLE-RADIUS=100;X-TITLE=Kulturamt Bielef
 eld:geo:0,0
END:VEVENT
BEGIN:VTIMEZONE
TZID:Europe/Berlin
X-LIC-LOCATION:Europe/Berlin
BEGIN:STANDARD
DTSTART:20251026T020000
TZOFFSETFROM:+0200
TZOFFSETTO:+0100
TZNAME:CET
END:STANDARD
END:VTIMEZONE
END:VCALENDAR