BEGIN:VCALENDAR
VERSION:2.0
PRODID:-//wp-events-plugin.com//7.2.3.1//EN
TZID:Europe/Berlin
X-WR-TIMEZONE:Europe/Berlin
BEGIN:VEVENT
UID:4441@lilabi.net
DTSTART;TZID=Europe/Berlin:20221016T170000
DTEND;TZID=Europe/Berlin:20221016T190000
DTSTAMP:20221011T105256Z
URL:https://www.lilabi.net/events/weggesperrt-ohne-zukunft-freiheitsrechte
 -goodbye-massregelvollzug-sicherungsverwahrung-fuehrungsaufsicht/
SUMMARY:Weggesperrt ohne Zukunft – Freiheitsrechte goodbye? Maßregelvoll
 zug – Sicherungsverwahrung – Führungsaufsicht
DESCRIPTION:Informations- und Diskussionsveranstaltung der Roten Hilfe e.V.
 \, Ortsgruppe Bielefeld mit dem Bremer Kriminalwissenschaftler und Strafve
 rteidiger Prof. Dr. Helmut Pollähne und dem Aktivisten Wolfgang aus Hambu
 rg.\n\nDer Maßregelvollzug ist ein wenig bekannter Bereich des Freiheitse
 ntzuges für Straftäterinnen und -täter\, die nach schweren Straftaten n
 icht in Haftanstalten sondern in psychiatrischen Kliniken (bekannt als For
 ensik) untergebracht sind und dort therapiert werden sollen (§ 63 STGB). 
 Nach wie vor ist hier ein ständiger Anstieg der Anzahl der auf dieser Gru
 ndlage untergebrachten Personen zu verzeichnen – und eine offensichtlich
 e Überforderung dieser Einrichtungen. Ein Ende ist für die betroffenen E
 inzelnen fast immer nicht absehbar. Ebenfalls ordnen viele Gerichte nach V
 erbüßung hoher Haftstrafen eine anschließende Sicherungsverwahrung an 
 – in gesonderten „Sicherungsverwahrungsabteilungen“ der normalen Jus
 tizvollzugsanstalten. Auch hier ist eine Entlassung ausschließlich abhän
 gig von Zukunftsprognosen der Gerichte die sich wiederum an Gutachten von 
 Psychologen und/oder den Beurteilungen der JVAs orientieren. Dazu kommt\, 
 dass auch im Bereich der „normalen“ Haft oft durch die Auferlegung ein
 er Führungsaufsicht nach Vollverbüßung der Haftstrafe die Freiheitsrech
 te über Jahre massiv eingeschränkt werden. Betroffen von dieser Praxis s
 ind auch widerständige Linke – in den letzten Jahren zunehmend auch tü
 rkische und kurdische Linke.\n\nWie ist also die aktuelle Rechtslage in di
 esen Bereichen? Wie lässt sich die Lage der Betroffenen verbessern? Wie k
 ann man Betroffene von außen her solidarisch unterstützen? An zwei Betro
 ffenen macht Wolfgang aus Hamburg das deutlich.\n\nRote Hilfe e.V.\, Ortsg
 ruppe Bielefeld bielefeld@rote-hilfe.de\n\nEine Veranstaltung im Rahmen de
 r Antirepressionstage Bielefeld 2022
CATEGORIES:Soli
LOCATION:Bürger*innenwache Siegfriedplatz\, Rolandstr. 16\, 33615 Bielefel
 d\, Deutschland
X-APPLE-STRUCTURED-LOCATION;VALUE=URI;X-ADDRESS=Rolandstr. 16\, 33615 Biele
 feld\, Deutschland;X-APPLE-RADIUS=100;X-TITLE=Bürger*innenwache Siegfried
 platz:geo:0,0
END:VEVENT
BEGIN:VTIMEZONE
TZID:Europe/Berlin
X-LIC-LOCATION:Europe/Berlin
BEGIN:DAYLIGHT
DTSTART:20220327T030000
TZOFFSETFROM:+0100
TZOFFSETTO:+0200
TZNAME:CEST
END:DAYLIGHT
END:VTIMEZONE
END:VCALENDAR