BEGIN:VCALENDAR
VERSION:2.0
PRODID:-//wp-events-plugin.com//7.2.3.1//EN
TZID:Europe/Berlin
X-WR-TIMEZONE:Europe/Berlin
BEGIN:VEVENT
UID:4879@lilabi.net
DTSTART;TZID=Europe/Berlin:20231207T180000
DTEND;TZID=Europe/Berlin:20231207T200000
DTSTAMP:20231106T102440Z
URL:https://www.lilabi.net/events/wege-aus-der-klimakrise/
SUMMARY:Wege aus der Klimakrise
DESCRIPTION:Die weltweite Klimakrise belastet besonders die Bevölkerung de
 s globalen Südens. Zunehmende Klimakatastrophen wie Überschwemmungen\, D
 ürren oder Stürmen gefährden die örtliche Bevölkerung. Wie kann die K
 limakrise eingeschränkt werden und welche auch kurzfristigen Konzepte gib
 t es\, um die Menschen vor Naturkatastrophen zu schützen? Welche langfris
 tigen Maßnahmen müssen ergriffen werden\, um eine weitere Verschärfung 
 der globalen Klimakrise zu verhindern?\n\nReferent: Stefan Rostock\, Berei
 chsleiter Bildung für nachhaltige Entwicklung bei Germanwatch\n\nIm Rahme
 n der Veranstaltungsreihe "Wege aus der Krise" von VHS Bielefeld und Welth
 aus Bielefeld\n\nhttps://www.welthaus.de/dates/dates-detail/news/detail/Ne
 ws/vortrag-wege-aus-der-klimakrise/
CATEGORIES:Vortrag
LOCATION:VHS Bielefeld\, Murnausaal\, Ravensberger Park 1\, Bielefeld\, Deu
 tschland
X-APPLE-STRUCTURED-LOCATION;VALUE=URI;X-ADDRESS=Ravensberger Park 1\, Biele
 feld\, Deutschland;X-APPLE-RADIUS=100;X-TITLE=VHS Bielefeld\, Murnausaal:g
 eo:0,0
END:VEVENT
BEGIN:VTIMEZONE
TZID:Europe/Berlin
X-LIC-LOCATION:Europe/Berlin
BEGIN:STANDARD
DTSTART:20231029T020000
TZOFFSETFROM:+0200
TZOFFSETTO:+0100
TZNAME:CET
END:STANDARD
END:VTIMEZONE
END:VCALENDAR