BEGIN:VCALENDAR
VERSION:2.0
PRODID:-//wp-events-plugin.com//7.2.3.1//EN
TZID:Europe/Berlin
X-WR-TIMEZONE:Europe/Berlin
BEGIN:VEVENT
UID:3466@lilabi.net
DTSTART;TZID=Europe/Berlin:20201205T140000
DTEND;TZID=Europe/Berlin:20201205T160000
DTSTAMP:20201201T141652Z
URL:https://www.lilabi.net/events/we-still-cant-breathe-6-monate-george-fl
 oyd/
SUMMARY:We still can't breathe! 6 Monate George Floyd
DESCRIPTION:--- Demo mit Maske und Abstand ---\n\n„I can’t breathe!“ 
 Diese Worte wiederholte der Afroamerikaner George Floyd über 20 Mal\, als
  ihn ein rassistischer Polizist mit dem Knie im Nacken ersticken ließ. Na
 ch diesem grausamen Mord war die Welt nicht wie zuvor. Und sie darf auch n
 icht sein wie zuvor!\n\nMillionen Menschen hatten endgültig genug und pro
 testierten Wochen und Monate für Gerechtigkeit – vor allem junge Mensch
 en setzen sich in der antirassistischen Bewegung ein. Dadurch bekommen The
 men wie Rassismus und Polizeigewalt Aufmerksamkeit wie noch nie und der Dr
 uck steigt\, dass sich grundlegend etwas ändern muss.\n\nImmer wieder seh
 en wir\, dass Rassismus ein strukturelles Problem ist: durch Benachteiligu
 ng in der Schule und beim Job\, durch racial profiling oder durch Anschlä
 ge wie die in Halle\, Hanau oder die des NSU. Das grundlegende Problem bes
 teht aber weltweit\, denn Kolonialismus und rassistische Unterdrückung si
 nd nicht überwunden. Die Folgen davon sind heute noch ausbeuterische Hand
 elsbeziehungen\, Kriege und Flucht.\n\nDoch die Welt muss nicht so sein. W
 ir wollen eine andere Welt\, eine solidarische Welt! Diese zu erreichen li
 egt in unserer Hand. Wir müssen uns dafür zusammenschließen\, uns einse
 tzen und auf die Straße gehen. Antirassismus darf kein Trend sein! Deshal
 b rufen wir auf zur Demo "We still can’t breathe – 6 Monate George Flo
 yd" am 5. Dezember (Sa.) 2020 um 14 Uhr am Hauptbahnhof Bielefeld.\n\nR U 
 rising up?\n\nWir machen nicht nur Demos - wir treffen uns auch regelmäß
 ig\, veranstalten verschiedene Aktionen und bilden uns weiter. Wir freuen 
 uns über alle\, die mitmachen möchten! Wenn du interessiert bist oder Fr
 agen hast\, dann melde dich gerne bei uns.
ATTACH;FMTTYPE=image/jpeg:https://www.lilabi.net/wp-content/uploads/2020/1
 1/bitteeeeee.jpg
CATEGORIES:Demo
LOCATION:Hauptbahnhof\, Bahnhofsvorplatz\, Bielefeld\, Deutschland
X-APPLE-STRUCTURED-LOCATION;VALUE=URI;X-ADDRESS=Bahnhofsvorplatz\, Bielefel
 d\, Deutschland;X-APPLE-RADIUS=100;X-TITLE=Hauptbahnhof:geo:0,0
END:VEVENT
BEGIN:VTIMEZONE
TZID:Europe/Berlin
X-LIC-LOCATION:Europe/Berlin
BEGIN:STANDARD
DTSTART:20201025T020000
TZOFFSETFROM:+0200
TZOFFSETTO:+0100
TZNAME:CET
END:STANDARD
END:VTIMEZONE
END:VCALENDAR