BEGIN:VCALENDAR
VERSION:2.0
PRODID:-//wp-events-plugin.com//7.2.3.1//EN
TZID:Europe/Berlin
X-WR-TIMEZONE:Europe/Berlin
BEGIN:VEVENT
UID:3429@lilabi.net
DTSTART;TZID=Europe/Berlin:20200827T193000
DTEND;TZID=Europe/Berlin:20200827T210000
DTSTAMP:20200819T071004Z
URL:https://www.lilabi.net/events/was-ist-faschismus/
SUMMARY:Was ist Faschismus?
DESCRIPTION:Zur theoretischen Klärung und praktischen Anwendung eines umst
 rittenen Begriffs.\n\nVortrag mit Matthias Wörsching | 19:30 Uhr | Ostblo
 ck – Kulturhaus Bielefeld\nDas Wort „Faschismus“ diente schon immer 
 nicht nur als sinnvolle Analysekategorie\, sondern auch als grenzenlos geb
 rauchter Kampfbegriff. Insbesondere von linker Seite wurde dieser Begriff 
 nicht selten auf alle möglichen autoritären und menschenfeindlichen Tend
 enzen ausgeweitet und dadurch analytisch entwertet.\nTrotzdem lassen sich 
 aus den jahrzehntelangen Forschungen und Theoriedebatten zum Faschismus ei
 nige Erkenntnisse gewinnen\, die für heutige Herausforderungen und Kämpf
 e wichtig sind. In der Veranstaltung wollen wir zunächst einen sinnvoll a
 nwendbaren\, einigermaßen genauen Faschismusbegriff erarbeiten. Danach di
 skutieren wir die Frage: Ist die AfD eine faschistische Partei? Wenn ja 
 – in welcher Hinsicht? Falls nein – warum nicht?\nMathias Wörsching (
 Berlin) ist Antifaschist\, Historiker und Politologe. Er betreibt die Inte
 rnetseite faschismustheorie.de und hat im Mai 2020 das Buch „Faschismust
 heorien – Überblick und Einführung“ in der Reihe theorie.org vom Sch
 metterling-Verlag herausgebracht.\nZur Vorbereitung bitte lesen:\n1) „Dr
 ei fortgeschrittene Faschismusdefinitionen“ (https://faschismustheorie.d
 e/wp-content/uploads/2013/01/17-10-18-Faschismusdefinitionen_Handout_MW.pd
 f)\n2) „Arbeitsdefinition“ – Seite 17/18 aus dem 2020 erschienenen B
 uch „Faschismus in Geschichte und Gegenwart. Ein vergleichender Überbli
 ck zur Tauglichkeit eines umstrittenen Begriffs.“ von Alexander Häusler
  und Michael Fehrenschild (https://www.rosalux.de/fileadmin/rls_uploads/pd
 fs/Manuskripte/Manuskripte_26_Faschismusstudie.pdf)
CATEGORIES:Vortrag
LOCATION:Kulturhaus Bielefeld\, Werner-Bock-Straße 34c\, Bielefeld\, Deuts
 chland
X-APPLE-STRUCTURED-LOCATION;VALUE=URI;X-ADDRESS=Werner-Bock-Straße 34c\, B
 ielefeld\, Deutschland;X-APPLE-RADIUS=100;X-TITLE=Kulturhaus Bielefeld:geo
 :0,0
END:VEVENT
BEGIN:VTIMEZONE
TZID:Europe/Berlin
X-LIC-LOCATION:Europe/Berlin
BEGIN:DAYLIGHT
DTSTART:20200329T030000
TZOFFSETFROM:+0100
TZOFFSETTO:+0200
TZNAME:CEST
END:DAYLIGHT
END:VTIMEZONE
END:VCALENDAR