BEGIN:VCALENDAR
VERSION:2.0
PRODID:-//wp-events-plugin.com//7.2.3.1//EN
TZID:Europe/Berlin
X-WR-TIMEZONE:Europe/Berlin
BEGIN:VEVENT
UID:4447@lilabi.net
DTSTART;TZID=Europe/Berlin:20221028T190000
DTEND;TZID=Europe/Berlin:20221028T201500
DTSTAMP:20221024T135222Z
URL:https://www.lilabi.net/events/was-bleibt-lyrik-lesung-mit-antje-dossma
 nn-und-ralf-burnicki-zur-fotoausstellung-von-ralf-bittner/
SUMMARY:„Was bleibt“: Lyrik-Lesung mit Antje Doßmann und Ralf Burnicki
  zur Fotoausstellung von Ralf Bittner
DESCRIPTION:Die bis Mitte November laufende Ausstellung „Was bleibt...“
  des Herforder Fotografen Ralf Bittner zeigt Landschafts- und Architektura
 ufnahmen verschiedener Erinnerungsorte. Es sind Tatorte aus der Zeit des N
 ationalsozialismus – und gleichzeitig Orte der Erinnerung und Mahnung\, 
 die zur persönlichen Auseinandersetzung auffordern.\n\nIm Rahmen der Auss
 tellung lesen Antje Doßmann (Bielefeld) und Ralf Burnicki (Herford) Prosa
  und Gedichte zur Frage nach dem\, was uns\, den Nachgeborenen\, bleibt vo
 n der deutschen Vergangenheit\, was wir mit hinübernehmen als Verantwortu
 ng für eine menschliche Zukunft. Es sind Gedichte\, die sich im Kontext d
 er Ausstellung von Bildern des Fotokünstlers Ralf Bittner mit dem Thema H
 olocaust\, Mahnen und Gedenken auseinandersetzen. Es sind aber auch Gedich
 te\, in denen sich die Krise der Gegenwart und der Alltag zu Wort meldet\,
  und es sind Texte\, die trotz aller kreativen Kritik auch Optimismus verb
 reiten wollen.\n\nAntje Doßmann und Ralf Burnicki prägen als Autor*innen
  seit vielen Jahren den ostwestfälischen Kulturbereich mit\, jeweils auch
  als Teil der Bielefelder- und der Herforder Autor*innen-Gruppe. Gemeinsam
  sind sie Redakteur*innen des OWL-Literaturmagazins Tentakel. Ihre poetisc
 hen Texte sind getragen von der Hoffnung\, dass eine friedliche und gleich
 berechtigte Welt möglich und machbar ist\, wenn wir das wollen und nicht 
 müde werden\, im Kleinen zu beginnen. Nicht nur als kreative Kritik\, son
 dern ebenso wenn Literatur Momente sucht und findet\, in denen die Utopie 
 beginnt\, kann sie im besten Sinne einladend sein.\n- Eintritt frei -
ATTACH;FMTTYPE=image/jpeg:https://www.lilabi.net/wp-content/uploads/2022/1
 0/Dossmann_Burnicki_800x600_3.jpg
CATEGORIES:Ausstellung,Gedenkveranstaltung,Lesung
LOCATION:Marienkirche Stiftberg\, Stiftbergstraße 33\, Herford\, Deutschla
 nd
X-APPLE-STRUCTURED-LOCATION;VALUE=URI;X-ADDRESS=Stiftbergstraße 33\, Herfo
 rd\, Deutschland;X-APPLE-RADIUS=100;X-TITLE=Marienkirche Stiftberg:geo:0,0
END:VEVENT
BEGIN:VTIMEZONE
TZID:Europe/Berlin
X-LIC-LOCATION:Europe/Berlin
BEGIN:DAYLIGHT
DTSTART:20220327T030000
TZOFFSETFROM:+0100
TZOFFSETTO:+0200
TZNAME:CEST
END:DAYLIGHT
END:VTIMEZONE
END:VCALENDAR