BEGIN:VCALENDAR
VERSION:2.0
PRODID:-//wp-events-plugin.com//7.2.3.1//EN
TZID:Europe/Berlin
X-WR-TIMEZONE:Europe/Berlin
BEGIN:VEVENT
UID:4809@lilabi.net
DTSTART;TZID=Europe/Berlin:20230914T200000
DTEND;TZID=Europe/Berlin:20230914T220000
DTSTAMP:20230826T114449Z
URL:https://www.lilabi.net/events/wanderkino-open-air-kino-auf-dem-siegfri
 edplatz/
SUMMARY:Wanderkino - Open Air Kino auf dem Siegfriedplatz
DESCRIPTION:OPEN-AIR-KINO auf dem Siegfriedplatz\nDas Wanderkino bietet am 
 Donnerstag\, den 14.09.2023 nach Einbruch der Dunkelheit ein besonderes Fi
 lm-Highlight: Gezeigt werden sehenswerte Stummfilme auf dem Siegfriedplatz
 . \n\nDie Macher des Wanderkinos Tobias Rank und Izabela Kalduńska werden
  das Geschehen auf der Leinwand zudem live am Piano und auf der Violine mu
 sikalisch begleiten.\nDer über 40 Jahre alte Feuerwehrwagen Marke Magirus
 -Deutz\, mit dem die beiden durch die Lande touren\, ist die Kulisse\, an 
 der die Leinwand angebracht ist. \n\nDamit hat das Wanderkino ein einzigar
 tiges Open-Air Ambiente sowohl für eingefleischte Filmfans als auch für 
 Gelegenheits-Cineasten.\n\nFolgende Filme stehen auf dem Programm:\n\n 	Li
 berty - Stan Laurel &amp\; Oliver Hardy 1929\n 	Sherlock\, jr. - Buster Ke
 aton 1924 \n\nMusikalische Begleitung: Izabela Kalduńska\, Violine und To
 bias Rank\, Piano\n\nBeginn: ca. 20:00 Uhr\n\nDonnerstag\, 14. September 2
 023\n\nSiegfriedplatz \n\nVeranstalter: Bürgerinitiative Bürgerwache e.V
 . und Rund um den Siggi e.V.\n\nEs wird darum gebeten\, eigene Sitzgelegen
 heiten mitzubringen !\n\nEintritt frei / Spenden erwünscht
ATTACH;FMTTYPE=image/jpeg:https://www.lilabi.net/wp-content/uploads/2023/0
 8/23-09-14-wkino23-web-klein.jpg
CATEGORIES:Film,Musik
LOCATION:Bürger*innenwache Siegfriedplatz\, Rolandstr. 16\, 33615 Bielefel
 d\, Deutschland
X-APPLE-STRUCTURED-LOCATION;VALUE=URI;X-ADDRESS=Rolandstr. 16\, 33615 Biele
 feld\, Deutschland;X-APPLE-RADIUS=100;X-TITLE=Bürger*innenwache Siegfried
 platz:geo:0,0
END:VEVENT
BEGIN:VTIMEZONE
TZID:Europe/Berlin
X-LIC-LOCATION:Europe/Berlin
BEGIN:DAYLIGHT
DTSTART:20230326T030000
TZOFFSETFROM:+0100
TZOFFSETTO:+0200
TZNAME:CEST
END:DAYLIGHT
END:VTIMEZONE
END:VCALENDAR