BEGIN:VCALENDAR
VERSION:2.0
PRODID:-//wp-events-plugin.com//7.2.3.1//EN
TZID:Europe/Berlin
X-WR-TIMEZONE:Europe/Berlin
BEGIN:VEVENT
UID:3712@lilabi.net
DTSTART;TZID=Europe/Berlin:20220510T190000
DTEND;TZID=Europe/Berlin:20220510T210000
DTSTAMP:20220509T155442Z
URL:https://www.lilabi.net/events/vortrag-workshop-antiziganismus-ein-neue
 r-alter-hut/
SUMMARY:Vortrag/Workshop: Antiziganismus - ein neuer\, alter Hut?
DESCRIPTION:Liebe Interessierte\,\n\nwir möchten euch zu einem Vortrag mit
  Workshopcharakter einladen zum Thema\nAntiziganismus mit den beiden Refer
 enten Juri Kreuz und Francesco Arman:\n\nWir geben euch einen Einblick in 
 den historisch manifestierten Antiziganismus.\nWoher kommt das (Un-)Wissen
  und warum konnte es sich so lange halten? Was\nkönnen wir tun\, um gegen
  Antiziganismus vorzugehen? Gemeinsam suchen wir nach\nIdeen und Lösungen
 \, beantworten eure Fragen und stellen euch weiterführende\nLinks und Bei
 träge zur Verfügung.\n\n\nZoom-Meeting beitreten\nhttps://fh-bielefeld.z
 oom.us/j/64821677143?pwd=M3lteWJ0dFJqdjVkdXRGczg2MitEZz09\n\nMeeting-ID: 6
 48 2167 7143\nKenncode: 165549\n\n\nHerzliche Grüße\,\n\ndas Referat fü
 r antifaschistische Arbeit des AStA der FH Bielefeld
ATTACH;FMTTYPE=image/jpeg:https://www.lilabi.net/wp-content/uploads/2022/0
 5/photo_2022-05-05_15-44-18.jpg
CATEGORIES:Diskussion
END:VEVENT
BEGIN:VTIMEZONE
TZID:Europe/Berlin
X-LIC-LOCATION:Europe/Berlin
BEGIN:DAYLIGHT
DTSTART:20220327T030000
TZOFFSETFROM:+0100
TZOFFSETTO:+0200
TZNAME:CEST
END:DAYLIGHT
END:VTIMEZONE
END:VCALENDAR