BEGIN:VCALENDAR
VERSION:2.0
PRODID:-//wp-events-plugin.com//7.2.3.1//EN
TZID:Europe/Berlin
X-WR-TIMEZONE:Europe/Berlin
BEGIN:VEVENT
UID:3488@lilabi.net
DTSTART;TZID=Europe/Berlin:20210304T180000
DTEND;TZID=Europe/Berlin:20210304T193000
DTSTAMP:20210223T142327Z
URL:https://www.lilabi.net/events/vortrag-die-verschraenkung-von-ableismus
 -und-sexismus-ueber-lebensrealitaeten-von-maedchen-und-jungen-frauen-mit-b
 ehinderung-chron-erkrankung/
SUMMARY:Vortrag: Die Verschränkung von Ableismus und Sexismus - Über Lebe
 nsrealitäten von Mädchen und jungen Frauen mit Behinderung/chron. Erkran
 kung
DESCRIPTION:Vortrag\nDie Verschränkung von Ableismus und Sexismus\nÜber L
 ebensrealitäten von Mädchen und jungen Frauen mit Behinderung/chron. Erk
 rankung\n\nInhalt:\nUnsere Gesellschaft ist ableistisch geprägt. Das bede
 utet\, dass Menschen danach bewertet werden\, wie "able" (engl. fähig) si
 e aufgrund ihrer körperlichen und/oder mentalen Fähigkeiten sind. Ableis
 mus betrifft also per se erstmal alle Menschen\, jedoch Menschen mit Behin
 derung in besonderem Maße. Gleichzeitig leben wir auch in einer sexistisc
 hen Gesellschaft\, in der Mädchen\, Frauen und genderdiverse Personen ben
 achteiligt werden. Die Auswirkungen dieser ableistischen und sexistischen 
 Zustände stellen eine große Herausforderung für viele Mädchen und jung
 e Frauen mit Behinderung/ chronischer Erkrankung dar.\nDie Kategorie gende
 r (engl. Geschlecht) wurde in den 1980er Jahren von Feminist*innen als soz
 iale Konstruktion entlarvt. Die Kategorie dis_ability (engl. Behinderung) 
 kann ebenso als konstruiert begriffen werden. Die Chancen und das Potenzia
 l\, die von diesem Betrachtungsansatz ausgehen\, werden im Vortrag beleuch
 tet und anhand der Lebensrealitäten von Mädchen und Frauen mit Behinderu
 ng/ chronischer Erkrankung exemplarisch veranschaulicht.\nErklärung zu de
 n Begriffen Mädchen und Frau:\nMit den Begriffen Mädchen und Frau sind a
 lle Menschen gemeint\, die sich selbst als solche definieren.\n\nReferenti
 n:\nDer Vortrag wird gehalten von Melina Holz (sie/ihr). Sie hat Soziale A
 rbeit und Gender Studies studiert und macht derzeit eine Weiterbildung als
  personenzentrierte Beraterin. Melina lebt ohne Behinderung und spricht au
 s einer Position als unterstützende Person.\n\nFür wen ist der Vortrag:\
 nFür alle interessierten Personen. Es wird kein Vorwissen benötigt.\n\nD
 auer:\nDer Vortrag dauert eine Stunde. Danach kann noch eine halbe Stunde 
 zum diskutieren und Fragen stellen genutzt werden.\n\nDatum und Uhrzeit:\n
 04.03. 18:00-19:30Uhr\n\nOrt:\nDer Vortrag findet online bei Zoom statt. D
 er Link ist auf Anfrage per Mail erhältlich. Bitte mailt dazu an: anacond
 a(at)asta-bielefeld.de
ATTACH;FMTTYPE=image/jpeg:https://www.lilabi.net/wp-content/uploads/2021/0
 2/photo_2021-02-22_10-11-30.jpg
CATEGORIES:Vortrag
END:VEVENT
BEGIN:VTIMEZONE
TZID:Europe/Berlin
X-LIC-LOCATION:Europe/Berlin
BEGIN:STANDARD
DTSTART:20201025T020000
TZOFFSETFROM:+0200
TZOFFSETTO:+0100
TZNAME:CET
END:STANDARD
END:VTIMEZONE
END:VCALENDAR