BEGIN:VCALENDAR
VERSION:2.0
PRODID:-//wp-events-plugin.com//7.2.3.1//EN
TZID:Europe/Berlin
X-WR-TIMEZONE:Europe/Berlin
BEGIN:VEVENT
UID:3677@lilabi.net
DTSTART;TZID=Europe/Berlin:20220223T180000
DTEND;TZID=Europe/Berlin:20220223T200000
DTSTAMP:20220217T150241Z
URL:https://www.lilabi.net/events/vortrag-der-konflikt-um-die-ukraine/
SUMMARY:Vortrag: Der Konflikt um die Ukraine
DESCRIPTION:Kaum ein Thema hat die politische Debatte in den vergangenen Wo
 chen so stark geprägt wie der Konflikt um die Ukraine. Russland bereite s
 ich darauf vor\, in das Land einzumarschieren\, hieß es im Westen. In Mos
 kau wiederum wurde immer wieder bekräftigt\, davon könne keine Rede sein
 \; man fordere lediglich ein Ende der NATO-Osterweiterung und Sicherheitsg
 arantien. Welche Interessen leiten beide Seiten im Ukraine-Konflikt? Welch
 e Motive stecken hinter dem Vorgehen der beteiligten Staaten und Bündniss
 e? Wie ordnet sich die aktuelle Konflikteskalation in den großen Machtkam
 pf des Westens gegen Russland und China ein? Diesen sowie weiteren Fragen 
 widmet sich die Zoom-Veranstaltung am 23. Februar.\nZoom-Meeting beitreten
 :\nhttps://uni-bielefeld.zoom.us/j/91272631715?pwd=TGhqeDFYdXlMTFJERERKbit
 PLzhnQT09\nMeeting-ID: 912 7263 1715\nPasswort: Ukraine
CATEGORIES:Vortrag
END:VEVENT
BEGIN:VTIMEZONE
TZID:Europe/Berlin
X-LIC-LOCATION:Europe/Berlin
BEGIN:STANDARD
DTSTART:20211031T020000
TZOFFSETFROM:+0200
TZOFFSETTO:+0100
TZNAME:CET
END:STANDARD
END:VTIMEZONE
END:VCALENDAR