BEGIN:VCALENDAR
VERSION:2.0
PRODID:-//wp-events-plugin.com//7.2.3.1//EN
TZID:Europe/Berlin
X-WR-TIMEZONE:Europe/Berlin
BEGIN:VEVENT
UID:3724@lilabi.net
DTSTART;TZID=Europe/Berlin:20220622T190000
DTEND;TZID=Europe/Berlin:20220622T210000
DTSTAMP:20220527T151639Z
URL:https://www.lilabi.net/events/von-krise-zu-krise-und-die-alternativen/
SUMMARY:Von Krise zu Krise und die Alternativen
DESCRIPTION: \n\nVon Krise zu Krise und die Alternativen\n\nVortrag und Di
 skussion mit Prof. Dr. Frank Deppe\, Marburg\n\n&nbsp\;\n\nFrank Deppe dis
 kutiert die vielfältigen Krisenprozesse und ihre gesellschaftlichen und 
 ökonomischen Zusammenhänge (Klima-Katastrophe\, Finanzkrise\, Corona-Pan
 demie\, Ukraine-Krieg).\n\nWelche Auswirkungen auf den gesellschaftlichen 
 Zusammenhalt haben die Krisen und wer gehört zu den Gewinnern und Verlier
 ern? Die zunehmende ökonomische Schieflage durch Pandemie und Ukraine-Kri
 eg verteuert weltweit Lebensmittel und Energieversorgung. Menschen mit ger
 ingen Einkommen gehören jetzt schon zu den Verlierern der multiplen Krise
 n\n\nDies wirft grundlegenden Fragen nach der weiteren Entwicklung und dem
  sozialen Zusammenhalt der Gesellschaften auf\, vor allem aber: Ist eine 
 »Transformation« in ökologischer\, sozialökonomischer und politischer 
 Perspektive unaufschiebbar geworden?\n\nMit dem Blick auf einen Weg aus de
 r Katastrophe und zu Alternativen der gesellschaftlichen Entwicklung fragt
  er: Wer sind die Gegenkräfte? Kann es neue Bündnisse geben\, z.B. zwisc
 hen Gewerkschaften und sozialen bzw. ökologischen Bewegungen? Welche Ford
 erungen (Programme) erzeugen Perspektiven und Transformation? Welche Persp
 ektiven haben Kritik und Gegenwehr? Mit welchen Bedingungen müssen sie si
 ch auseinandersetzen?\n\nFrank Deppe ist emeritierter Professor für Polit
 ikwissenschaft an der Philipps-Universität Marburg. Er hat zahlreiche Pub
 likationen zur politischen Theorie\, Geschichte und Politik der Arbeiter-b
 ewegung und zur politischen Soziologie der Gewerkschaften veröffentlicht.
  Deppe ist Mitglied im wissenschaftlichen Beirat der Rosa-Luxemburg-Stiftu
 ng.\n\n&nbsp\;\n\nVeranstalter: Rosa Luxemburg Club Bielefeld in Kooperati
 on mit der VHS Bielefeld und mit freundlicher Unterstützung der Rosa Luxe
 mburg Stiftung NRW e.V.
LOCATION:Historischer Saal der VHS Bielefeld\, Ravensberger Park 1 \, Biele
 feld\, 33607\, Deutschland
X-APPLE-STRUCTURED-LOCATION;VALUE=URI;X-ADDRESS=Ravensberger Park 1 \, Biel
 efeld\, 33607\, Deutschland;X-APPLE-RADIUS=100;X-TITLE=Historischer Saal d
 er VHS Bielefeld:geo:0,0
END:VEVENT
BEGIN:VTIMEZONE
TZID:Europe/Berlin
X-LIC-LOCATION:Europe/Berlin
BEGIN:DAYLIGHT
DTSTART:20220327T030000
TZOFFSETFROM:+0100
TZOFFSETTO:+0200
TZNAME:CEST
END:DAYLIGHT
END:VTIMEZONE
END:VCALENDAR