BEGIN:VCALENDAR
VERSION:2.0
PRODID:-//wp-events-plugin.com//7.2.3.1//EN
TZID:Europe/Berlin
X-WR-TIMEZONE:Europe/Berlin
BEGIN:VEVENT
UID:3451@lilabi.net
DTSTART;TZID=Europe/Berlin:20201031T183000
DTEND;TZID=Europe/Berlin:20201031T200000
DTSTAMP:20201013T104526Z
URL:https://www.lilabi.net/events/vida-amorosa-liebe-das-leben-lesung-gege
 n-rassismus-und-fuer-eine-herrschaftsfreie-zukunft/
SUMMARY:Vida Amorosa - Liebe das Leben! - Lesung gegen Rassismus und für e
 ine herrschaftsfreie Zukunft -
DESCRIPTION:Vida Amorosa - Liebe das Leben! Unter diesem Motto lesen libert
 äre Autor*innen gegen Rassismus und für eine herrschaftsfreie Gesellscha
 ft am Samstag\, den 31. Oktober um 18.30 Uhr in der Villa Kunterbunt in B
 ünde. Die Lesung ist Auftakt der diesjährigen Veranstaltungsreihe "Erinn
 ern heißt Partei ergreifen" anlässlich des 9. November 1938\, als der na
 tionalsozialistische Terror gegen jüdische MitbürgerInnen einen vorläuf
 igen Höhepunkt fand.\n\nDas Eingangswort hält Pascal Tücke für die Vil
 la Kunterbunt. Ihm folgt der Bielefelder Autor und prämierte Übersetzer 
 Michael Halfbrodt\, der für seine Übertragungen politisch-philosophische
 r Schriften aus dem Französischen unter anderem vom europäischen Überse
 tzerfonds ausgezeichnet wurde. Mit den Folgen des Nationalsozialismus für
  Andersdenkende beschäftigt sich seine Übersetzung von Michel Ragon’s 
 historischem Roman „Das Gedächtnis der Besiegten“ (Edition AV)\, aus 
 dem er vortragen wird. Der aus Münster anreisende Autor Jörg Siegert nim
 mt mit seinen Gedichten auf satirische Weise Hierarchien und Rassismus auf
 s Korn\, sein Humor ist mitreißend\, die Pointen sind punktgenau\, man mu
 ss es live erleben. Aus Bielefeld kommt Matthias Witte\, dessen Texte im r
 egionalen Literaturmagazin „culturcreisel“ erscheinen\, wo  er Teil d
 es Redaktionskollektivs ist. Seine Poesie ist direkt\, kraftvoll und frei 
 heraus. Hier erwartet die Zuhörer*innen politische Lyrik pur. Zum Abschlu
 ss liest der in Herford lebende Autor Ralf Burnicki\, der für seine bildh
 afte und zugleich gesellschaftskritische Prosadichtung von der Gesellschaf
 t für neue Literatur (NGL Berlin) als „Erbe Orwells“ ausgelobt wurde.
  Die Zuhörer*innen erwartet ein kreatives Literaturereignis\, das zum Nac
 hdenken über Gegenwart und Zukunft anregt.\n\nDer Eintritt ist frei (eine
  Spende für das Jugendzentrum ist erwünscht).\n\nWichtiger Hinweis: Die 
 Veranstaltung findet zur Sicherheit aller Beteiligten unter coronabedingte
 n Auflagen statt\, aus demselben Grunde und der begrenzten Teilnehmer*inne
 nzahl ist eine vorherige Anmeldung sowie die Mitteilung von Kontaktdaten e
 rforderlich an die Mailadresse literaturowl@yahoo.com . Die übermittelten
  Daten werden nach der Lesung baldmöglichst gelöscht.  \n\nLesung am Sa
 mstag\, den 31. November\, 18.30 Uhr (Einlass 18 Uhr) \n\nOrt: Villa Kunte
 rbunt\, Kaiser-Wilhelmstr. 2 (2. Etage)\, 32257 Bünde.
ATTACH;FMTTYPE=image/jpeg:https://www.lilabi.net/wp-content/uploads/2020/1
 0/Plakat_Vida_Amorosa2.jpg
CATEGORIES:Lesung
LOCATION:\, \, 
X-APPLE-STRUCTURED-LOCATION;VALUE=URI;X-ADDRESS=\, ;X-APPLE-RADIUS=100;X-TI
 TLE=:geo:0,0
END:VEVENT
BEGIN:VTIMEZONE
TZID:Europe/Berlin
X-LIC-LOCATION:Europe/Berlin
BEGIN:STANDARD
DTSTART:20201025T020000
TZOFFSETFROM:+0200
TZOFFSETTO:+0100
TZNAME:CET
END:STANDARD
END:VTIMEZONE
END:VCALENDAR