BEGIN:VCALENDAR
VERSION:2.0
PRODID:-//wp-events-plugin.com//7.2.3.1//EN
TZID:Europe/Berlin
X-WR-TIMEZONE:Europe/Berlin
BEGIN:VEVENT
UID:4376@lilabi.net
DTSTART;TZID=Europe/Berlin:20220819T190000
DTEND;TZID=Europe/Berlin:20220819T223000
DTSTAMP:20220804T102527Z
URL:https://www.lilabi.net/events/verschaerfung-des-nrw-versammlungsgesetz
 /
SUMMARY:Verschärfung des NRW-Versammlungsgesetz
DESCRIPTION:Anfang 2022 ist ein neues Versammlungsgesetz in NRW in Kraft ge
 treten\, womit  das Versammlungsrecht deutlich eingeschränkt wurde. So k
 ann die Polizei im Vorfeld einer Versammlung bspw. die Namen und Adressen 
 von geplanten Ordner*innen einfordern und diese dann ggfls. ablehnen. Zude
 m wurde ein Störungsverbot eingeführt\, womit z.B. Gegenproteste gegen N
 aziaufmärsche kriminalisiert werden können. \n\nDer Düsseldorfer Rechts
 anwalt Jasper Prigge stellt in seinem Vortrag die bedeutendsten Verschärf
 ungen im neuen Versammlungsgesetz dar\, ordnet diese juristisch ein und be
 schreibt mögliche Konsequenzen für die politische Praxis.\n\n&nbsp\;\n\n
 Veranstaltung findet im Hof statt.\n\nKommt bitte getestet.\n\nDie Veranst
 altung ist Teil einer Reihe. Checkt: http://infoladenanschlag.wordpress.co
 m/veranstaltungsreihe-gegen-repression/
ATTACH;FMTTYPE=image/jpeg:https://www.lilabi.net/wp-content/uploads/2022/0
 8/plakat_net.jpg
CATEGORIES:Infoveranstaltung
LOCATION:AJZ Bielefeld\, Heeper Str. 132\, 33607 Bielefeld\, Deutschland
X-APPLE-STRUCTURED-LOCATION;VALUE=URI;X-ADDRESS=Heeper Str. 132\, 33607 Bie
 lefeld\, Deutschland;X-APPLE-RADIUS=100;X-TITLE=AJZ Bielefeld:geo:0,0
END:VEVENT
BEGIN:VTIMEZONE
TZID:Europe/Berlin
X-LIC-LOCATION:Europe/Berlin
BEGIN:DAYLIGHT
DTSTART:20220327T030000
TZOFFSETFROM:+0100
TZOFFSETTO:+0200
TZNAME:CEST
END:DAYLIGHT
END:VTIMEZONE
END:VCALENDAR