BEGIN:VCALENDAR
VERSION:2.0
PRODID:-//wp-events-plugin.com//7.2.3.1//EN
TZID:Europe/Berlin
X-WR-TIMEZONE:Europe/Berlin
BEGIN:VEVENT
UID:4653@lilabi.net
DTSTART;TZID=Europe/Berlin:20230221T193000
DTEND;TZID=Europe/Berlin:20230221T210000
DTSTAMP:20230213T153223Z
URL:https://www.lilabi.net/events/verletzungen-des-voelkerrechts-in-israel
 -palaestina/
SUMMARY:Verletzungen des Völkerrechts in Israel/Palästina
DESCRIPTION:Verletzungen des Völkerrechts in Israel/Palästina\n\nProf. Dr
 . Norman Paech\, Universität Hamburg\n\n&nbsp\;\n\nMenschenrechtsorganisa
 tionen und Vertreter: innen der UNO haltendem Staat Israel immer wieder Ve
 rstöße gegen internationale Rechtskonventionen vor. Begriffe wie Aparthe
 id\, Rassismus und Siedlerkolonialismus gehören zu diesen Anklagen. Israe
 lische Regierungen setzten dem den Vorwurf  der Einseitigkeit und Voreing
 enommenheit entgegen.\n\nGrößte Besorgnis rufen in der internationalen G
 emeinschaft aktuell die Absichtserklärungen der neu ins Amt gekommenen Re
 gierung Netanjahu hervor.\n\n"Benjamin Netanjahu hat wieder die Macht im L
 and – und führt eine radikal rechte Koalition an\, die dem säkularen z
 ionistischen Staat den Garaus machen will." (FR\, 30.12.2022)\n\nNorman Pa
 ech wird die politischen Auseinandersetzungen und die aktuelle  Situation
  in Palästina analysieren. Dabei geht es insbesondere um die Frage der An
 erkennung der Rechte und Interessen der verschiedenen Menschengruppen in I
 srael und Palästina - um die  Vorgaben des Völkerrechts\, deren Beachtu
 ng und deren Verletzung.\n\nEintritt frei \n\nVeranstalter: Bielefelder Na
 host-Initiative  in Kooperation mit dem Rosa Luxemburg Club Bielefeld - m
 it freundlicher Unterstützung der Rosa Luxemburg Stiftung NRW e.V.
END:VEVENT
BEGIN:VTIMEZONE
TZID:Europe/Berlin
X-LIC-LOCATION:Europe/Berlin
BEGIN:STANDARD
DTSTART:20221030T020000
TZOFFSETFROM:+0200
TZOFFSETTO:+0100
TZNAME:CET
END:STANDARD
END:VTIMEZONE
END:VCALENDAR