BEGIN:VCALENDAR
VERSION:2.0
PRODID:-//wp-events-plugin.com//7.2.3.1//EN
TZID:Europe/Berlin
X-WR-TIMEZONE:Europe/Berlin
BEGIN:VEVENT
UID:2888@lilabi.net
DTSTART;TZID=Europe/Berlin:20191025T190000
DTEND;TZID=Europe/Berlin:20191025T210000
DTSTAMP:20191022T052632Z
URL:https://www.lilabi.net/events/ursula-haverbeck-und-netzwerke-der-extre
 men-rechten-vortrag/
SUMMARY:Ursula Haverbeck und Netzwerke der extremen Rechten [VORTRAG]
DESCRIPTION:Seit Mai 2018 sitzt Ursula Haverbeck in Bielefeld eine zweijäh
 rige Haftstrafe ab. Nazis haben dies bereits mehrmals zum Anlass genommen\
 , in Bielefeld mit mehreren Hundert Kameraden zu demonstrieren.\nZu den De
 mos reisten nazis aller Spektren aus dem gesamten Bundesgebiet an.\n\nIn d
 en letzten 15 Jahren sind die Teilnehmer*innenzahlen bei Nazi-Aufmärschen
  stets zurückgegangen\, sodass die beiden Aufmärsche 2018 mit 350 bzw. 4
 50 Teilnehmenden als nazisitische Großdemos gelten müssen.\nIm November 
 2019 wollen die Nazis erneut zu Hasverbecks Geburtstag demonstrieren. Die 
 Haverbeck-Demos haben das Potenzial\, ein jährliches\, festes Großevent 
 für die Nazis zu werden.\n\nZeit\, eine erste Bilanz zu ziehen:\nWer hat 
 bei den Aufmärschen teilgenommen?\nWelche Strukturen stecken dahinter?\n\
 nDer Vortrag versucht\, darauf einige Antworten zu geben. Dabei werden bes
 onders Akteure und Strukturen der Holocaustleugner*innen und der völkisch
 en Szene beleuchtet.\n\nhttps://antifabuendnisbielefeld.noblogs.org/\n\n*D
 ie Veranstaltenden behalten sich vor\, von ihrem Hausrecht Gebrauch zu mac
 hen*
ATTACH;FMTTYPE=image/jpeg:https://www.lilabi.net/wp-content/uploads/2019/1
 0/vortrag.jpg
CATEGORIES:Vortrag
LOCATION:FLA FLA Herford\, Diebrocker Straße 2\, 32051 Herford\, Deutschla
 nd
X-APPLE-STRUCTURED-LOCATION;VALUE=URI;X-ADDRESS=Diebrocker Straße 2\, 3205
 1 Herford\, Deutschland;X-APPLE-RADIUS=100;X-TITLE=FLA FLA Herford:geo:0,0
END:VEVENT
BEGIN:VTIMEZONE
TZID:Europe/Berlin
X-LIC-LOCATION:Europe/Berlin
BEGIN:DAYLIGHT
DTSTART:20190331T030000
TZOFFSETFROM:+0100
TZOFFSETTO:+0200
TZNAME:CEST
END:DAYLIGHT
END:VTIMEZONE
END:VCALENDAR