BEGIN:VCALENDAR
VERSION:2.0
PRODID:-//wp-events-plugin.com//7.2.3.1//EN
TZID:Europe/Berlin
X-WR-TIMEZONE:Europe/Berlin
BEGIN:VEVENT
UID:4812@lilabi.net
DTSTART;TZID=Europe/Berlin:20230921T183000
DTEND;TZID=Europe/Berlin:20230921T203000
DTSTAMP:20230908T121713Z
URL:https://www.lilabi.net/events/treffen-der-gruppe-queere-erinnerungskul
 tur-bielefeld/
SUMMARY:Treffen der Gruppe „Queere Erinnerungskultur Bielefeld“
DESCRIPTION:WER SIND WIR?\n\nWir sind eine kleine Gruppe\, die sich für di
 e Geschichte queerer Menschen interessiert und sich bemüht\, deren Andenk
 en in die Öffentlichkeit zu tragen. Entstanden ist unsere Gruppe im Rahme
 n der queeren Vereinslandschaft Bielefelds. Seit etwa zwei Jahren treffen 
 wir uns regelmäßig in den Räumen des BIE Queer e.V.\n\nWAS WOLLEN WIR?\
 n\nQueere Menschen sind nicht nur heute ein Teil von Bielefeld\, es gab un
 s auch hier schon immer.\n\nDas wollen wir Erinnern und in der Stadt sicht
 bar machen. Dabei geht es uns darum\, sowohl Unterdrückung und Verfolgung
  als auch den aktiven Einsatz queerer Menschen hin zu Gleichberechtigung u
 nd Solidarität in der Vergangenheit aufzuzeigen.\n\nUnser Ziel ist es\, d
 iese Seite der Geschichte für die gesamte Stadt-gesellschaft öffentlich 
 begreifbar und sichtbar zu machen. Denn die Gleichberechtigung aller Mensc
 hen zu erreichen und zu er-halten\, braucht heute mehr denn je unser aller
  Einsatz. Wir müssen hart umkämpfte Freiheiten verteidigen und historisc
 he Kontinuitäten der Diskriminierung weiterhin aufzeigen.\n\nWAS MACHEN W
 IR?\n\nIn unseren Treffen gestalten wir Aktivitäten und Events\, die quee
 re Geschichte in die Öffentlichkeit tragen.\n\nLetztes Jahr feierten wir 
 das 50-jährige Jubiläum der Initiativgruppe Homosexualität Bielefeld\, 
 die in den 70ern für Akzeptanz kämpfte. 2021 organisierten wir die Ausst
 ellung 'Im Namen des Volkes!?' zum Paragraf 175. Auch (Personen-) Recherch
 en stehen auf unserer Liste. Aktuell setzen wir uns für einen Erinnerungs
 ort ein\, der den queeren\n\nOpfern der NS-Zeit in Bielefeld gedenkt.\n\nE
 ure vielfältigen Perspektiven sind gefragt! Schließt euch uns an und las
 st uns gemeinsam queere Geschichte lebendig machen.\n\nGemeinsam für quee
 re Sichtbarkeit!
CATEGORIES:Austausch/Vernetzung
LOCATION:BIE Queer e.V.\, Ehlentruper Weg 45a\, Bielefeld\, 33604\, Deutsch
 land
X-APPLE-STRUCTURED-LOCATION;VALUE=URI;X-ADDRESS=Ehlentruper Weg 45a\, Biele
 feld\, 33604\, Deutschland;X-APPLE-RADIUS=100;X-TITLE=BIE Queer e.V.:geo:0
 ,0
END:VEVENT
BEGIN:VTIMEZONE
TZID:Europe/Berlin
X-LIC-LOCATION:Europe/Berlin
BEGIN:DAYLIGHT
DTSTART:20230326T030000
TZOFFSETFROM:+0100
TZOFFSETTO:+0200
TZNAME:CEST
END:DAYLIGHT
END:VTIMEZONE
END:VCALENDAR