BEGIN:VCALENDAR
VERSION:2.0
PRODID:-//wp-events-plugin.com//7.2.3.1//EN
TZID:Europe/Berlin
X-WR-TIMEZONE:Europe/Berlin
BEGIN:VEVENT
UID:4388@lilabi.net
DTSTART;TZID=Europe/Berlin:20220813T140000
DTEND;TZID=Europe/Berlin:20220911T190000
DTSTAMP:20220819T111930Z
URL:https://www.lilabi.net/events/transurban-residency-rochdale-kaserne-13
 -8-11-9-2022/
SUMMARY:Transurban Residency | Rochdale-Kaserne | 13.8-11-9.2022
DESCRIPTION:TRANSURBAN-Residency'22:\nWie gehen wir ko-produktiv aus dem Le
 erstand ins neue Quartier?\n\nAnhand dieser Leitfrage geht die TRANSURBAN 
 Residency in 2022 in Ostwestfalen-Lippe auf den Rochdale Barracks der Stad
 t Bielefeld an den Start. In ihrem zweiten Programmjahr schafft die Reside
 ncy Übergänge: von einer ehemaligen Kaserne hinein in die Zwischennutzun
 g\, über den Stacheldraht hinweg hinein in den Stadtraum von einem Nicht-
 Ort zu einem urbanen Lebensraum.\n\nHier wird Stadt und deren Entwicklung 
 künstlerisch verhandelt\, denn auf dem Kasernengelände entsteht in naher
  Zukunft ein neues Quartier. Doch wie verläuft die ko-produktive Quartier
 sentwicklung von geschichtlich gewachsenem Bestand hin zur Beteiligung\, P
 lanung\, Abriss\, Bau und Neunutzung?\n\nGemeinschaftlich\, in Zusammenarb
 eit mit der Stadt Bielefeld\, Akteuren der Bielefelder Kulturlandschaft un
 d Stadtgesellschaft sowie Künstler*innen und Stadtforscher*innen werden d
 ie Rochdale Barracks zu einem temporären Labor\; zu einem Spielfeld urban
 er\, künstlerischer Praxis. Kunst öffnet hier den Dialog zwischen Geschi
 chte und Gegenwart\, zwischen Gestaltung und Nutzung\, zwischen Raum und U
 topie.\n\n+++\n\nProgramm vom 13. August bis zum 11. September:\n\n+++\n\n
 \n13. August / 14:00 – 22:00\n\n\n\nGrand Opening \n+\n27. August / 13:4
 5 – 22:00\n\n\n Midissage | Ausstellungseröffnungen &amp\; Einweihung d
 er Citadella\nPoetry Slam\, Musik &amp\; mehr\n+\n10. September / 14:00 
 – 22:00\n\n\n Finissage \nZirkus\, öffentliches Gespräch über die wei
 tere Zwischennutzung &amp\; mehr\n\n\n\n\n\n\n+++\n\n\nregelmäßige Termi
 ne:\n\n 	Mittwochs\, 18 Uhr: gemeinsamer Kasernen-Spaziergang über das Ge
 lände\n 	Donnerstags\, 19 Uhr: Public Dinner (Bringt gerne Speisen mit)\n
  	Samstags\, ab 14 Uhr: Mittagessen von der Stadtteilkantine\n\n+++\n\nKul
 tur:\n20. August / 19:00\n\n\n Fold. Folding. Folded. | PERFORMATIVE INSTA
 LLATION \n+\n21. August – 11. September | Ausstellungen:\n\n\n Salienz |
  VIDEO-PERFORMANCE \n\nAnastassia Gneiding\n\n\n\n BI DIFFERENT | FOTOGRAF
 IE-AUSSTELLUNG \n\nVeit Mette\n\n\n\n\n\n\n Schuhputzerjungen 1941/42 | FO
 TOGRAFIE-AUSSTELLUNG \n\n\n\n 	Christine Halm\n\n\n\n\n\n\n\n\n INDIVIDUAL
  | INSTALLATION \n\n\n\n 	Joachim Stäbler\n\n\n\n\n\n\n\n\n Mowed Meadow 
 | AUDIO-INSTALLATION \n\n\n\n 	Alexander Lauterbach\n\n\n\n\n\n\n\n\n Alle
 s hat seine Zeit – vom Loslassen | MITMACH-AKTION \n\n\n\n 	Luise Krolzi
 k\n\n\n\n\n\n\n\n\n Composition | AUSSTELLUNGS-ERÖFFNUNGEN &amp\; FÜHRUN
 G \n\n 	Joachim Stäbler\n 	Christine Halm\n 	Veit Mette\n\n+\n\n\n\n 	\n2
 6. August / 17:00 &amp\; 19:00\n\n\n Resonanz in der Kaserne | KONZERT-PER
 FORMANCE \n+\n\n28. August / 16:30\n\n\n Ansichten/ Transformationen/ Pers
 pektiven | TEXTE &amp\; MUSIK \n\n\n\n 	Maximilian Schultis\n 	Dirk Strehl
 \n 	Théophile Bonhert\n\n+\n\n1. September / 14:00 – 18:00\n\n 	\n\n\n 
 Baba Jagas Wunschbaum | KUNSTAKTION ZUM MITMACHEN \n+\n\n\n\n 	\n2. Septem
 ber / 19:00 – 22:00\n\n\n Afrodance-Party \n+\n3. September / 14:00 – 
 22:00\n\n\n RYOT FEST – reclaim your own town \n+\n4. September / 14:00 
 – 18:00\n\n\n RadKulTour | NACHHALTIGES KULTURFESTIVAL \n+\n8. September
  / 18:00\n\n\n Hänsel und Gretel verliefen sich im Wald | PERFORMANCE \n&
 amp\; 20:30\n\n\n Besondere Orte für bewegte Bilder | OPEN AIR KINO \n+\n
 9. September / 16:00 – 22:00\n\n\n\n Bielefelder Begegnungen | FESTIVAL 
 \n\n 	Initiative Bielefelder Subkultur e.V.\n 	Afrika Wakati e.V.\n 	Wapan
 i Band\, Burkina Faso\n 	Arcom\n 	Diana Schabanova\, Ukraine\n 	Adamo Dick
 o &amp\; Seno Blues\n 	La Murga\n 	Bega\n\n+\n\n 	\n11. September / 14:00 
 – 22:00\n\n\n Bielefelder Begegnungen – Bielefelder Soundsystemkultur:
  Roots\, Dub &amp\; more | FESTIVAL \n\n\n\n\n\n\n\n\n\n\n\n\n\n\n\n\n\n\n
 \n\n\n\n\n\n\n\n\n\n\n+\n\n\n+\n+\nWorkshops:\n17. August / 15:00 – 18:0
 0\n\n\n Vom Trash zur Kunst I | WORKSHOP \n18. August / 16:30 – 19:00\n\
 n\n SPIELRAUM für gute Nachbarschaft | DIALOGISCHES PLANUNGSSPIEL \n\n\n\
 n\n19. August / 14:00 – 15:00\n\n\n Social Presencing Theater – das Ic
 h und Wir als Perspektiven auf die Stadt | WORKSHOP \n\n19. August / 17:00
  – 19:00\n\n\n Der utopische Fleck I: Ich kann sie schon sehen! Meine St
 adt von morgen | UTOPIE-LAB \n20. August / 15:00 – 18:00\n\n\n Erkundung
 srallye: Lost Place – Auf den Spuren des Nationalsozialismus \n20. Augus
 t / 15:00 – 19:00\n\n\n Vom Trash zur Kunst II | WORKSHOP \n24. August /
  18:00\n\n\n Ins Offene – eine Volxtheaterwerkstatt | WORKSHOP &amp\; PE
 RFORMANCE \n\n\n28. August / 14:00\n\n\n Schatzkammer | WORKSHOP \n31. Aug
 ust / 14:00 – 18:00\n\n\n Reanimation | WORKSHOP \n31. August / 19:00\n\
 n\n Lust + Frust + Visionen | GESPRÄCHSRUNDE \n\n\n1. September / 13:00 
 – 17:00\n\n\n Der utopische Fleck II – Magisches Mosaik | WORKSHOP \n1
 . September / 14:00 – 18:00\n\n\n Baba Jagas Wunschbaum | KUNSTAKTION ZU
 M MITMACHEN \n\n\n\n\n1. September / 15:00 – 19:00\n\n\n Reanimation | W
 ORKSHOP \n2. September / 14:00 – 18:00\n\n\n Upcycling City – Stadtmob
 iliar selbst bauen | WORKSHOP \n2. September / 17:00 – 19:00\n\n\n Afrod
 ance | WORKSHOP \n\n\n3. September / 14:00 – 18:00\n\n\n Upcycling City 
 – Stadtmobiliar selbst bauen | WORKSHOP \n3. September / 14:00 – 22:00
 \n\n\n RYOT FEST – reclaim your own town \n7. September / 14:00 – 18:0
 0\n\n\n Upcycling City – Stadtmobiliar selbst bauen | WORKSHOP \n8. Sept
 ember / 14:00 – 18:00\n\n\n Konversion als Prozess der Gemeinschaft | RE
 GIONALE Symposium \n\n\n\n\n\n\n\n\n\n\n\n\n\n\n\n\n\n\n\n\n\n\n\n
ATTACH;FMTTYPE=image/jpeg:https://www.lilabi.net/wp-content/uploads/2022/0
 8/2022-08-19-transurban-website-screenshot-resized.png
CATEGORIES:Ausstellung,Austausch/Vernetzung,Diskussion,Infoveranstaltung,K
 üfa,Musik,Sonstiges,Theater,Vortrag,Workshop
LOCATION:Rochdale-Kaserne\, Oldentruper Str. 65\, Bielefeld\, Deutschland
X-APPLE-STRUCTURED-LOCATION;VALUE=URI;X-ADDRESS=Oldentruper Str. 65\, Biele
 feld\, Deutschland;X-APPLE-RADIUS=100;X-TITLE=Rochdale-Kaserne:geo:0,0
END:VEVENT
BEGIN:VTIMEZONE
TZID:Europe/Berlin
X-LIC-LOCATION:Europe/Berlin
BEGIN:DAYLIGHT
DTSTART:20220327T030000
TZOFFSETFROM:+0100
TZOFFSETTO:+0200
TZNAME:CEST
END:DAYLIGHT
END:VTIMEZONE
END:VCALENDAR