BEGIN:VCALENDAR
VERSION:2.0
PRODID:-//wp-events-plugin.com//7.2.3.1//EN
TZID:Europe/Berlin
X-WR-TIMEZONE:Europe/Berlin
BEGIN:VEVENT
UID:5840@lilabi.net
DTSTART;TZID=Europe/Berlin:20250108T190000
DTEND;TZID=Europe/Berlin:20250108T210000
DTSTAMP:20250102T120514Z
URL:https://www.lilabi.net/events/to-hell-with-your-money-asger-jorn-die-s
 ituationistische-internationale-und-die-verwirklichung-der-kunst/
SUMMARY:„To Hell with your Money“ Asger Jorn\, die Situationistische In
 ternationale und die Verwirklichung der Kunst
DESCRIPTION:Referent: Michael Halfbrodt\nKunst dient in unserer Gesellschaf
 t vorwiegend als Objekt geistiger Erbauung oder finanzieller Spekulation. 
 Es hat jedoch in der Kunstszene immer auch Gegenbewegungen gegeben\, Kunst
  als emanzipatorische Praxis zu verstehen. Genau dies war das Programm der
  „Situationistischen Internationale“\, einer Gruppe von Künstlerinnen
  und Künstlern\, die eine kulturrevolutionäre Veränderung der Gesellsch
 aft anstrebten. Im Museum Böckstiegel in Werther werden zurzeit Werke von
  Asger Jorn\, eines Gründungsmitglieds dieser Gruppe\, ausgestellt. Im Vo
 rtrag wird sowohl auf das Wirken der Gruppe wie auch auf die Beiträge von
  Asger Jorn eingegangen. Der Eintritt ist frei.
ATTACH;FMTTYPE=image/jpeg:https://www.lilabi.net/wp-content/uploads/2025/0
 1/Logo-mit-Spruch.png
CATEGORIES:Vortrag
LOCATION:Bürgerwache Siegfriedplatz Saal\, Rolandstraße 16\, 33615 bielef
 eld\, nrw\, 33615\, Deutschland
X-APPLE-STRUCTURED-LOCATION;VALUE=URI;X-ADDRESS=Rolandstraße 16\, 33615 bi
 elefeld\, nrw\, 33615\, Deutschland;X-APPLE-RADIUS=100;X-TITLE=Bürgerwach
 e Siegfriedplatz Saal:geo:0,0
END:VEVENT
BEGIN:VTIMEZONE
TZID:Europe/Berlin
X-LIC-LOCATION:Europe/Berlin
BEGIN:STANDARD
DTSTART:20241027T020000
TZOFFSETFROM:+0200
TZOFFSETTO:+0100
TZNAME:CET
END:STANDARD
END:VTIMEZONE
END:VCALENDAR