BEGIN:VCALENDAR
VERSION:2.0
PRODID:-//wp-events-plugin.com//7.2.3.1//EN
TZID:Europe/Berlin
X-WR-TIMEZONE:Europe/Berlin
BEGIN:VEVENT
UID:6218@lilabi.net
DTSTART;TZID=Europe/Berlin:20251128T180000
DTEND;TZID=Europe/Berlin:20251130T120000
DTSTAMP:20250616T125452Z
URL:https://www.lilabi.net/events/theoriepraxis-4/
SUMMARY:Theorie&amp\;Praxis #4
DESCRIPTION:Kein Sozialismus ohne Theorie\, keine Jugendbewegung ohne Praxi
 s. Bei unseren Theorie&amp\;Praxis-Wochenenden bieten wir vier verschieden
 e Seminare parallel an - welches nimmst du? Im November gibt es zwei Theor
 ieeinheiten: Ein Seminar zur Geschichte der Sozialistischen Jugend Deutsch
 lands - Die Falken in Kooperation mit dem Archiv der Arbeiter*innenjugend 
 und eine Einführung in den Sozialismus. Praxismodule gibt es auch: Du kan
 nst deine Social-Media-Skills verbessern oder lernen\, wie du mit Kindern 
 auch über schwierige Themen sprechen kannst. Abends treffen sich alle zu 
 Limo und Bier in unserer Kneipe.\n\nZielgruppe: Alle Interessierten ab 15 
 Jahren\n\nKosten: 25 € inkl. Übernachtung und Verpflegung\n\n&nbsp\;\n\
 nhttps://www.allende-haus.de/falken/bildungsprogramm/theorie-und-praxis-4-
 2025 
CATEGORIES:Workshop
END:VEVENT
BEGIN:VTIMEZONE
TZID:Europe/Berlin
X-LIC-LOCATION:Europe/Berlin
BEGIN:STANDARD
DTSTART:20251026T020000
TZOFFSETFROM:+0200
TZOFFSETTO:+0100
TZNAME:CET
END:STANDARD
END:VTIMEZONE
END:VCALENDAR