BEGIN:VCALENDAR
VERSION:2.0
PRODID:-//wp-events-plugin.com//7.2.3.1//EN
TZID:Europe/Berlin
X-WR-TIMEZONE:Europe/Berlin
BEGIN:VEVENT
UID:6389@lilabi.net
DTSTART;TZID=Europe/Berlin:20250913T190000
DTEND;TZID=Europe/Berlin:20250914T220000
DTSTAMP:20250901T133518Z
URL:https://www.lilabi.net/events/theaterstueck-ich-bin-der-wandel/
SUMMARY:Theaterstück - Ich bin: der Wandel
DESCRIPTION:Sa\, 13.09./ 19:00 mit anschließendem Bürger:innendialog\n\nS
 o\, 14.09./ 19:00\n\nCCS\, CO2\, Zeh gestoßen! Was ist Transformation? Un
 d wer wandelt was? Ein humorvoll-gesellschaftskritischer Theaterabend zwis
 chen Orangensaft\, den reichsten Männern der Welt\, Paartherapie und Wach
 stumswahn. Für alle\, denen Klimasorgen nicht fremd sind. Für alle\, die
  Gerechtigkeit global denken wollen. Für alle\, die einen Einstieg ins Th
 ema suchen. Für alle.\n\nWer mehr will\, bleibt am Samstag für einen ans
 chließenden Bürger:innendialog. Hier finden eure Gefühle und Gedanken P
 latz und entfalten ihr Potential: Gemeinsam wollen wir globale Herausforde
 rungen zu lokalen Projekten umwandeln.\n\nText: Hannah Löwer\, Lisa Reese
 \nTextgrundlage: u. a. Materialien der Romero Initiative e. V.\n\nRegie: H
 annah Löwer\, Lisa Reese\, Elisabeth Ebert\n\nSpiel: Ali Nazari\, Cynthia
  Borchert\, Hannah Conrad\, Jonas Panhuysen\, Lucienne Hoebbel\, Mamadou D
 iallo\, Olivia Wagner\, Theresa Haschke\n\nModeration Bürger*innendialog:
  Tjerk Löwer\n\nTechnik: Ralf Bensel
ATTACH;FMTTYPE=image/jpeg:https://www.lilabi.net/wp-content/uploads/2025/0
 9/Ich-bin-der-Wandel.png
CATEGORIES:Diskussion,Theater
LOCATION:Theaterlabor Tor 6\, Herrmann-Kleinewächter-Straße 4\, 33602 Bie
 lefeld\, Deutschland
X-APPLE-STRUCTURED-LOCATION;VALUE=URI;X-ADDRESS=Herrmann-Kleinewächter-Str
 aße 4\, 33602 Bielefeld\, Deutschland;X-APPLE-RADIUS=100;X-TITLE=Theaterl
 abor Tor 6:geo:0,0
END:VEVENT
BEGIN:VTIMEZONE
TZID:Europe/Berlin
X-LIC-LOCATION:Europe/Berlin
BEGIN:DAYLIGHT
DTSTART:20250330T030000
TZOFFSETFROM:+0100
TZOFFSETTO:+0200
TZNAME:CEST
END:DAYLIGHT
END:VTIMEZONE
END:VCALENDAR