BEGIN:VCALENDAR
VERSION:2.0
PRODID:-//wp-events-plugin.com//7.2.3.1//EN
TZID:Europe/Berlin
X-WR-TIMEZONE:Europe/Berlin
BEGIN:VEVENT
UID:4839@lilabi.net
DTSTART;TZID=Europe/Berlin:20231116T190000
DTEND;TZID=Europe/Berlin:20231116T220000
DTSTAMP:20231012T140232Z
URL:https://www.lilabi.net/events/theaterauffuehrung/
SUMMARY:Theateraufführung
DESCRIPTION:Theatervorführung: \n\n›Monolog mit meinem »asozialen« Gro
 ßvater‹\n\nEin Häftling in Buchenwald\n\nTheaterprojekt von &amp\; mit
  Harald Hahn\n\n 	Stadtteilzentrum Bürgerwache\nRolandstr. 16\, 33615 Bie
 lefeld\n 	Donnerstag\, 16. November 2023\n 	\nSaal (Raum 007\, EG.)\nDer Z
 ugang ist barrierefrei\n\n 	Einlass: 18:30 Uhr / Beginn: 19:00 Uhr\n 	Eint
 ritt 8\,00 € / 5\,00 € (erm.)\n 	Kartenvorbestellung unter: kultur@bi-
 buergerwache.de\nDas Theaterstück ›Monolog mit meinem »asozialen« Gro
 ßvater‹ handelt von der vergessenen Opfergruppe der sogenannten ›Asoz
 ialen‹ während der NS-Zeit. Als ›asozial‹ galten den Nationalsozial
 isten diejenigen\, die durch ihre Lebensführung vermeintlich dem ›Volks
 körper‹ schadeten. Gemeint waren damit meist: Menschen aus der ›Unter
 schicht‹. Arme\, Obdachlose\, Suchtkranke\, Prostituierte\, Arbeitslose-
  wer nicht ins System passte\, wurde aussortiert.\nIn einem sehr persönli
 chen Erzähltheater spricht der Autor in einfühlsamen Monologen mit seine
 m verstorbenen Großvater Anton Knödler\, der als Häftling in Buchenwald
  inhaftiert war. Er spricht über das Familiengeheimnis\, die Scham und di
 e Zeit in Buchenwald. Ausgehend von den Monologen schlüpft Harald Hahn in
  die Rolle eines SS Mannes und verwandelt sich zurück in das Kind\, das e
 r einst war. Ein schwäbischer Hausmeister kommentiert das Geschehen und s
 chafft so die Verbindung zwischen Geschichte\, Schauspieler und vermeintli
 ch unbeteiligten Zuschauer*innen. Denn die aufgeworfenen Fragen verweigern
  sich dem rein passiven Konsum – sie wollen und sollen alle Anwesenden m
 it einbeziehen.\nDas Stück dauert etwa 60 Minuten und schließt mit einem
  anschließenden Publikumsgespräch ab.\nMehr Infos: http://asozialer-gros
 svater.de/\nEine Veranstaltung der Bürgerinitiative Bürgerwache e.V. in 
 Kooperation mit dem Rosa Luxemburg Club Bielefeld und der Rosa Luxemburg S
 tiftung NRW e.V.\n
ATTACH;FMTTYPE=image/jpeg:https://www.lilabi.net/wp-content/uploads/2023/1
 0/23-11-16-asoGV1v2-WEB.jpg
CATEGORIES:Theater,Vortrag
LOCATION:Bürger*innenwache Siegfriedplatz\, Rolandstr. 16\, 33615 Bielefel
 d\, Deutschland
X-APPLE-STRUCTURED-LOCATION;VALUE=URI;X-ADDRESS=Rolandstr. 16\, 33615 Biele
 feld\, Deutschland;X-APPLE-RADIUS=100;X-TITLE=Bürger*innenwache Siegfried
 platz:geo:0,0
END:VEVENT
BEGIN:VTIMEZONE
TZID:Europe/Berlin
X-LIC-LOCATION:Europe/Berlin
BEGIN:STANDARD
DTSTART:20231029T020000
TZOFFSETFROM:+0200
TZOFFSETTO:+0100
TZNAME:CET
END:STANDARD
END:VTIMEZONE
END:VCALENDAR