BEGIN:VCALENDAR
VERSION:2.0
PRODID:-//wp-events-plugin.com//7.2.3.1//EN
TZID:Europe/Berlin
X-WR-TIMEZONE:Europe/Berlin
BEGIN:VEVENT
UID:4952@lilabi.net
DTSTART;TZID=Europe/Berlin:20240224T190000
DTEND;TZID=Europe/Berlin:20240224T210000
DTSTAMP:20240216T223844Z
URL:https://www.lilabi.net/events/the-baloch-womens-uprising-resistance-an
 d-the-long-march/
SUMMARY:The Baloch women\\'s uprising resistance and the long march
DESCRIPTION:Einladung zur Infoveranstaltung zum aktuellen Frauenaufstand in
  Balochistan\n\n-kollektiver Widerstand gegen kollektive Gewalt und Unterd
 rückung–\n\nAm 24. Februar um 18 Uhr im N.r.z.P. Vortrag (Podiumsgespr
 äch) und Kurzdokumentation über den aktuellen Widerstand\, den langen Pr
 otestmarsch der Frauen von Turbat nach Islamabad und die Sit-In-Proteste i
 n Islamabad mit anschließender Diskussion mit den beiden baloch Aktivist:
 innen\, die den Vortrag halten werden.\n\nSeit dem 23. November gibt es ei
 ne neue Welle des Widerstands in Balochistan (pakistanischer Teil). Ausgel
 öst durch die Ermordung des jungen Baloch Balach Muala Baksh durch die pa
 kistanische Polizei in Turbat kam es zu Massenprotesten gegen die jahrzehn
 telange Unterdrückung\, das gewaltsame Verschwindenlassen und die Tötung
  von Baloch. Die Proteste führten zu einem langen Protestmarsch über 1.6
 00 km von Turbat über Quetta in die pakistanische Hauptstadt Islamabad\, 
 wo seit der Ankunft des Marsches ein großes Protestcamp mit Hunderten von
  Familien\, Aktivist:innen und Angehörigen der Entführten errichtet wurd
 e. Der gesamte Protest wird von Frauen angeführt\, die ihre Stimme gegen 
 Menschenrechtsverletzungen\, Gewalt und Unterdrückung erheben und lautsta
 rke Forderungen stellen.\n\nWenn du kannst\, bist du herzlich eingeladen\,
  an diesem Abend Geld für die Frauenbewegung in Balochistan zu spenden\, 
 das dann direkt weitergeleitet wird.\n\nDer Vortrag wird auf englisch geha
 lten\, mit deutscher Übersetzung.\n\n\n\nInvitation to the info event on 
 the current women's uprising in Balochistan\n\n- collective resistance aga
 inst collective violence and oppression -\n\nOn February 24 at 6 pm at N.r
 .z.P.\n\nLecture (Panel talk) and short documentary on the current resista
 nce\, the long protest march led by women from Turbat to Islamabad and the
  sit-in protests in Islamabad\, followed by a discussion with the two Balo
 ch activists who will give the lecture.\n\nSince November 23\, there has b
 een a new wave of resistance in Balochistan (Pakistani part). Triggered by
  the killing of a young Baloch man Balach Muala Baksh by the Pakistani pol
 ice in Turbat\, mass protests have erupted against decades of oppression\,
  enforced disappearances and killings of Baloch people. The protests gave 
 rise to the long protest march over 1\,600 km from Turbat via Quetta to th
 e Pakistani capital Islamabad\, where a large protest camp has been establ
 ished with hundreds of families\, activists and relatives of the abducted 
 persons since the arrival of the march. The entire protest is being led by
  women who are raising their voices against human rights violations\, viol
 ence and oppression and making loud demands.\n\nIf you can\, you are welco
 me to donate cash on the evening for the women's movement in Balochistan\,
  which will then be sent directly.\n\nThe lecture will be given in english
 \, and there will be a german translation.
ATTACH;FMTTYPE=image/jpeg:https://www.lilabi.net/wp-content/uploads/2024/0
 2/Veranstaltung.jpg
CATEGORIES:Infoveranstaltung
LOCATION:Nr. z. P.\, Große Kurfürstenstraße 81\, Bielefeld\, Deutschland
X-APPLE-STRUCTURED-LOCATION;VALUE=URI;X-ADDRESS=Große Kurfürstenstraße 8
 1\, Bielefeld\, Deutschland;X-APPLE-RADIUS=100;X-TITLE=Nr. z. P.:geo:0,0
END:VEVENT
BEGIN:VTIMEZONE
TZID:Europe/Berlin
X-LIC-LOCATION:Europe/Berlin
BEGIN:STANDARD
DTSTART:20231029T020000
TZOFFSETFROM:+0200
TZOFFSETTO:+0100
TZNAME:CET
END:STANDARD
END:VTIMEZONE
END:VCALENDAR