BEGIN:VCALENDAR
VERSION:2.0
PRODID:-//wp-events-plugin.com//7.2.3.1//EN
TZID:Europe/Berlin
X-WR-TIMEZONE:Europe/Berlin
BEGIN:VEVENT
UID:4949@lilabi.net
DTSTART;TZID=Europe/Berlin:20240224T200000
DTEND;TZID=Europe/Berlin:20240224T235500
DTSTAMP:20240214T124755Z
URL:https://www.lilabi.net/events/tellerversteigerung-mit-der-ajz-kneipeng
 ruppe/
SUMMARY:Tellerversteigerung mit der AJZ-Kneipengruppe
DESCRIPTION:Eure AJZ Kneipengruppe hat in den dunklen Wochen des Winters\, 
 unter Schweiß und Tränen\, in minutiöser Handarbeit\, wunderschöne Por
 zellanteller bemalt.\nDiese Unikate wollen wir zu Gunsten des vor ca. eine
 m Jahr aus dem AJZ geklauten Beamers versteigern.\n\nUnd da Auktionen imme
 r so hungrig und durstig machen\, gibt es lecker Döner (vegan) und Cockta
 ils dazu!
ATTACH;FMTTYPE=image/jpeg:https://www.lilabi.net/wp-content/uploads/2024/0
 2/plakat-net.jpg
CATEGORIES:Kneipe,Küfa,Party
LOCATION:AJZ Bielefeld\, Heeper Str. 132\, 33607 Bielefeld\, Deutschland
X-APPLE-STRUCTURED-LOCATION;VALUE=URI;X-ADDRESS=Heeper Str. 132\, 33607 Bie
 lefeld\, Deutschland;X-APPLE-RADIUS=100;X-TITLE=AJZ Bielefeld:geo:0,0
END:VEVENT
BEGIN:VTIMEZONE
TZID:Europe/Berlin
X-LIC-LOCATION:Europe/Berlin
BEGIN:STANDARD
DTSTART:20231029T020000
TZOFFSETFROM:+0200
TZOFFSETTO:+0100
TZNAME:CET
END:STANDARD
END:VTIMEZONE
END:VCALENDAR