BEGIN:VCALENDAR
VERSION:2.0
PRODID:-//wp-events-plugin.com//7.2.3.1//EN
TZID:Europe/Berlin
X-WR-TIMEZONE:Europe/Berlin
BEGIN:VEVENT
UID:4465@lilabi.net
DTSTART;TZID=Europe/Berlin:20221204T150000
DTEND;TZID=Europe/Berlin:20221204T180000
DTSTAMP:20221121T141023Z
URL:https://www.lilabi.net/events/tauschflohmarkt/
SUMMARY:Tauschflohmarkt
DESCRIPTION:Huhu\, am Sonntag den 4.12.2022 findet ein Tauschflohmarkt im A
 JZ Bielefeld statt. Kommt vorbei und bringt gerne Sachen zum Tauschen mit\
 , wenn ihr welche habt\, wenn nicht seid ihr natürlich trotzdem herzlich 
 eingeladen. Es wird außerdem heiße &amp\; kalte Getränke und süße Sna
 cks geben.\;)\n\nBitte testet euch vorher selbst!
CATEGORIES:Austausch/Vernetzung,Kleidertausch
LOCATION:AJZ Bielefeld\, Heeper Str. 132\, 33607 Bielefeld\, Deutschland
X-APPLE-STRUCTURED-LOCATION;VALUE=URI;X-ADDRESS=Heeper Str. 132\, 33607 Bie
 lefeld\, Deutschland;X-APPLE-RADIUS=100;X-TITLE=AJZ Bielefeld:geo:0,0
END:VEVENT
BEGIN:VTIMEZONE
TZID:Europe/Berlin
X-LIC-LOCATION:Europe/Berlin
BEGIN:STANDARD
DTSTART:20221030T020000
TZOFFSETFROM:+0200
TZOFFSETTO:+0100
TZNAME:CET
END:STANDARD
END:VTIMEZONE
END:VCALENDAR