BEGIN:VCALENDAR
VERSION:2.0
PRODID:-//wp-events-plugin.com//7.2.3.1//EN
TZID:Europe/Berlin
X-WR-TIMEZONE:Europe/Berlin
BEGIN:VEVENT
UID:3573@lilabi.net
DTSTART;TZID=Europe/Berlin:20211011T100000
DTEND;TZID=Europe/Berlin:20211015T170000
DTSTAMP:20211006T162937Z
URL:https://www.lilabi.net/events/tanz-und-theaterworkshop/
SUMMARY:Tanz- und Theaterworkshop
DESCRIPTION:Wir wollen gemeinsam improvisieren\, tanzen und spielend Szenen
  zum Thema "Stark sein!" erarbeiten.\nWie können wir uns alleine und in d
 er Gruppe stark fühlen\, wo sind unsere Grenzen und wie zeigen wir die au
 f?\n\nEin Workshop der Mut und Spaß machen soll.\n\nAnmelden bis zum 8.10
 .\n\nKostenfrei\, für Mädchen*\, keine Vorkenntnisse nötig\n\n&nbsp\;
ATTACH;FMTTYPE=image/jpeg:https://www.lilabi.net/wp-content/uploads/2021/1
 0/IMG_20211002_123144_399.jpg
CATEGORIES:Theater,Workshop
END:VEVENT
BEGIN:VTIMEZONE
TZID:Europe/Berlin
X-LIC-LOCATION:Europe/Berlin
BEGIN:DAYLIGHT
DTSTART:20210328T030000
TZOFFSETFROM:+0100
TZOFFSETTO:+0200
TZNAME:CEST
END:DAYLIGHT
END:VTIMEZONE
END:VCALENDAR