BEGIN:VCALENDAR
VERSION:2.0
PRODID:-//wp-events-plugin.com//7.2.3.1//EN
TZID:Europe/Berlin
X-WR-TIMEZONE:Europe/Berlin
BEGIN:VEVENT
UID:5679@lilabi.net
DTSTART;TZID=Europe/Berlin:20240615T130000
DTEND;TZID=Europe/Berlin:20240615T220000
DTSTAMP:20240529T200043Z
URL:https://www.lilabi.net/events/tag-des-offenen-hackspace/
SUMMARY:Tag des offenen Hackspace
DESCRIPTION:Wir laden alle Hackenden\, die\, die es werden wollen und jene 
 mit Interesse\,  zum Tag der offenen Tür am 15. Juni ab 13 Uhr ein. Als 
 Bielefelder Hackspace wollen wir uns &amp\; unsere Räume vorstellen. Dabe
 i wollen wir zeigen\, was bei uns möglich ist und Interessierte willkomme
 n heißen. An diesen Tag bieten wir euch kleine Lötprojekte von Blinkypar
 ts an\, Talks zum 3DDruck\, veganes Gebäck\, aber auch einen Einstieg in 
 das Thema Linux und digitale Selbstverteidigung.
ATTACH;FMTTYPE=image/jpeg:https://www.lilabi.net/wp-content/uploads/2024/0
 5/2024_OpenDay_Page_1.jpg
CATEGORIES:Sonstiges
LOCATION:ACME Labs\, Mühlenstraße 5a\, Bielefeld\, Deutschland
X-APPLE-STRUCTURED-LOCATION;VALUE=URI;X-ADDRESS=Mühlenstraße 5a\, Bielefe
 ld\, Deutschland;X-APPLE-RADIUS=100;X-TITLE=ACME Labs:geo:0,0
END:VEVENT
BEGIN:VTIMEZONE
TZID:Europe/Berlin
X-LIC-LOCATION:Europe/Berlin
BEGIN:DAYLIGHT
DTSTART:20240331T030000
TZOFFSETFROM:+0100
TZOFFSETTO:+0200
TZNAME:CEST
END:DAYLIGHT
END:VTIMEZONE
END:VCALENDAR