BEGIN:VCALENDAR
VERSION:2.0
PRODID:-//wp-events-plugin.com//7.2.3.1//EN
TZID:Europe/Berlin
X-WR-TIMEZONE:Europe/Berlin
BEGIN:VEVENT
UID:3716@lilabi.net
DTSTART;TZID=Europe/Berlin:20220521T140000
DTEND;TZID=Europe/Berlin:20220521T234500
DTSTAMP:20220517T125629Z
URL:https://www.lilabi.net/events/tag-der-offenen-tuer/
SUMMARY:Tag der offenen Tür
DESCRIPTION:Seit über 40 Jahren engagieren wir uns gemeinsam für globale 
 Gerechtigkeit. Vieles haben wir erreicht – und vieles gibt es noch zu tu
 n. Gemeinsam mit euch wollen wir dieses Jubiläum feiern:\n\nvon 14-24 Uhr
  im Welthaus und im Innenhof nebenan!\n\nGespannt aufs Programm? Hier scho
 n mal ein paar Infos zum Neugierig-Machen:\n\nim Welthaus (ab 14 Uhr):\n\n
  	digitale Rallye  - Wer findet alle versteckten Lösungen zu unseren Fra
 gen rund um den Tag der offenen Tür? Bringt eurer Handy mit oder leiht eu
 ch ein Gerät!\n 	Mini-Inputs mit Einblicken in unsere Themen &amp\; Proje
 kte wie Welternährung neu denken\, Nachhaltige Spielkisten\, Global-Goals
 -Radweg oder Errungenschaften Afrikas (jeweils 15 min\, zur halben Stunde 
 ab 14.30 Uhr)\n 	Kreativ-Workshop zu Gendergerechtigkeit/Genderutopien\, k
 leine Ausstellung zum Thema &amp\; Infos zur Hausgruppe Open Globe Bielefe
 ld\n 	Infos zu unseren Bildungsangeboten für Lehrende\, Multiplikator*inn
 en und alle\, die es werden wollen\n 	kleine Ausstellung mit Infos &amp\; 
 Geschichten aus 40 Jahren Welthaus\n 	Infos &amp\; Ausstellung zu weltwär
 ts\n 	Führungen durchs Haus mit einem Blick hinter die Kulissen (um 15.00
 \, 16.00 und 17.00 Uhr)\n\nim Hof nebenan (ab 14 Uhr):\n\n 	Mit-Mach-Aktio
 nen und Spiele für kleinere und größere Menschen\n 	Infostände von uns
 eren Hausgruppen - von Südliches Afrika\, Burundi\, Äthiopien\, Peru\, N
 icaragua bis Gemeinwohlökonomie - und der Stiftung Welthaus Bielefeld. Mi
 t Infos zu den Projekten unserer Partnerorganisationen\, Kunsthandwerk\, 
 äthiopischer Kaffeezeremonie und einigem mehr\n 	Kinderschminke\, Malen &
 amp\; Henna-Tattoos\n 	Platz für Treffen\, Klönen\, Zuhören\n\nUnd nat
 ürlich unser Bühnenprogramm (von 15.30-24 Uhr):\n\n 	mit Clown Obi (Akro
 batik)\n 	Sängerin Priscilla Konan (Soul\, Hip-Hop\, Afro)\n 	Tanzgruppe 
 „Connecting Family“ (Mix aus Afrobeat und Dancehall)\n 	„Murga Los C
 ometas Felices“ (Straßentheater aus Argentinien aus Musik\, Tanz\, Gesa
 ng\, Kostümierungen &amp\; treibenden Rhythmen)\n-&gt\; Das Besondere: Zu
 sammen mit jungen Menschen aus unserem Viertel stellen diese Künstler*inn
 en die Ergebnisse ihrer gemeinsamen Workshops vor.\n 	kleine Interviews mi
 t Einblicken in die Arbeit der Partnerorganisationen und unserer Hausgrupp
 en zu El Salvador\, Südlichen Afrika\, und Äthiopien\n 	kultureller Übe
 rraschungsbeitrag der weltwärts-Freiwilligen\n 	ab 19 Uhr läuten wir den
  Abend ein:\nmit dem Konzert von Priscilla Konan &amp\; Re-Music und dem A
 vocado System mit seinem speziell konstruierten Boxenturm und feinsten Roo
 ts-Reggae &amp\; Dub-Schallplatten.\n\nDazu gibt's Kulinarisches für eine
 n fairen Preis von:\n\n 	Senegambia\n 	Emilio vegetarische Küche\n 	lecke
 re\, faire Cocktails der Fairstival-Gruppe\n 	selbstgebackene Kuchen\, Bie
 lefeld-Kaffee\, Kaltgetränke &amp\; Wein im Café Welthaus\n\nSchaut vorb
 ei\, feiert mit bei unserem Fest mit Sinn &amp\; Kultur\, für Kopf &amp\;
  Herz!\n\nAchtet auf euch und andere: Kommt gern mit Selbsttest\, bringt M
 asken mit\, wenn's voll wird &amp\; für drinnen. Danke!
ATTACH;FMTTYPE=image/jpeg:https://www.lilabi.net/wp-content/uploads/2022/0
 5/Welthaus-Frontansicht.jpg
CATEGORIES:Aktionstage
LOCATION:Welthaus Bielefeld\, August-Bebel-Str. 62 \, Bielefeld\, Deutschla
 nd
X-APPLE-STRUCTURED-LOCATION;VALUE=URI;X-ADDRESS=August-Bebel-Str. 62 \, Bie
 lefeld\, Deutschland;X-APPLE-RADIUS=100;X-TITLE=Welthaus Bielefeld:geo:0,0
END:VEVENT
BEGIN:VTIMEZONE
TZID:Europe/Berlin
X-LIC-LOCATION:Europe/Berlin
BEGIN:DAYLIGHT
DTSTART:20220327T030000
TZOFFSETFROM:+0100
TZOFFSETTO:+0200
TZNAME:CEST
END:DAYLIGHT
END:VTIMEZONE
END:VCALENDAR