BEGIN:VCALENDAR
VERSION:2.0
PRODID:-//wp-events-plugin.com//7.2.3.1//EN
TZID:Europe/Berlin
X-WR-TIMEZONE:Europe/Berlin
BEGIN:VEVENT
UID:3560@lilabi.net
DTSTART;TZID=Europe/Berlin:20210924T200000
DTEND;TZID=Europe/Berlin:20210924T220000
DTSTAMP:20210921T181905Z
URL:https://www.lilabi.net/events/szenische-lesung-wie-wir-nazis-wurden-ei
 ne-dokumentarische-spurensuche/
SUMMARY:Szenische Lesung: »Wie wir Nazis wurden – Eine dokumentarische S
 purensuche«
DESCRIPTION:Bei den Reichstagswahlen 1930 konnte die NSDAP ihren Stimmenant
 eil von 2\,8 auf 18\,3 Prozent erhöhen. Auch in Bielefeld lag die Steiger
 ung ähnlich hoch wie im Reichsdurchschnitt. Welche Motivationen\, welche 
 sozialen und ökonomischen Voraussetzungen beförderten diesen enormen Sti
 mmenzuwachs?\n\nIn ihrer multimedialen Lesung nutzt die Künstler:innengru
 ppe Projekt.: zeitgenössische Quellen\, um einen Blick ins Jahr 1930 zu w
 erfen. Zeitungsartikel\, Tagebücher\, private Aufzeichnungen früher Nati
 onalsozialist:innen und wissenschaftliche Analysen der Zeit vermitteln ein
 en atmosphärisch dichten Einblick und sind das lebendige Gerüst des span
 nenden Theaterabends. \n\nAuf der „Bühne“ sind: Josef Bäcker\, Silvi
 a Bose\, Friedrich Brünger\, Annelie Buntenbach\, Aiga Kornemann\, Salina
  Sahrhage\, Bernhard Wagner\, Dietlind Wild und Heiner Wild.\n\nWissenscha
 ftliche Beratung: Bernd J. Wagner\n\nKonzept\, Video und Regie: Matthias H
 arre\nWie wir Nazis wurden  wird gefördert von der LAG Soziokultur NRW un
 d ist eine Kooperation mit der Bürgerinitiative Bürgerwache e. V.\, dem 
 Stadtarchiv Bielefeld und der Künstler:innengruppe Projekt.: \nVVK: 12.- 
 € / 6.- € \n----------------------------------------------------------
 --------------------------------------------------------------------------
 ---------------------------\nCoronabedingt benötigen wir von allen Zuscha
 uenden eine schriftliche Anmeldung / Reservierung unter kultur@bi-buergerw
 ache.de. Die Plätze sind begrenzt. Es wird nur Vorverkauf angeboten. Kein
 e Abendkasse.\nEs gelten die 3-G-Regeln (genesen\, geimpft oder getestet) 
 mit entsprechender Bescheinigung und Ausweisdokument. Wird beim Einlass ko
 ntrolliert 
ATTACH;FMTTYPE=image/jpeg:https://www.lilabi.net/wp-content/uploads/2021/0
 9/21-09-13-web-klein.jpg
CATEGORIES:Theater
LOCATION:http://bi-buergerwache.de/index.php/start.html
END:VEVENT
BEGIN:VTIMEZONE
TZID:Europe/Berlin
X-LIC-LOCATION:Europe/Berlin
BEGIN:DAYLIGHT
DTSTART:20210328T030000
TZOFFSETFROM:+0100
TZOFFSETTO:+0200
TZNAME:CEST
END:DAYLIGHT
END:VTIMEZONE
END:VCALENDAR