BEGIN:VCALENDAR
VERSION:2.0
PRODID:-//wp-events-plugin.com//7.2.3.1//EN
TZID:Europe/Berlin
X-WR-TIMEZONE:Europe/Berlin
BEGIN:VEVENT
UID:4377@lilabi.net
DTSTART;TZID=Europe/Berlin:20220820T170000
DTEND;TZID=Europe/Berlin:20220820T233000
DTSTAMP:20220804T102552Z
URL:https://www.lilabi.net/events/streitkultur-zur-verschaerfung-des-nrw-v
 ers-gesetz/
SUMMARY:STREITKULTUR zur Verschärfung des NRW-Vers.-Gesetz
DESCRIPTION:Mit der Streitkultur als wiederkehrende Veranstaltung im Infola
 den\, versuchen wir eine Kultur des solidarischen politischen Streitens au
 f Augenhöhe zu etablieren bzw. zu fördern. Dieses Mal - mit der Infovera
 nstaltung vom Vortag als Input - wollen wir gemeinsam diskutieren\, wie wi
 r mit der Verschärfung des Versammlungsgesetzes in NRW umgehen. Welche Ve
 ränderungen in der Praxis ergeben sich? Mit welcher Form von Repression s
 ehen wir uns zukünftig konfrontiert?\n\n\nKommt bitte getestet.\n\nDie Ve
 ranstaltung ist Teil einer Reihe. Checkt:\n\nhttp://infoladenanschlag.word
 press.com/veranstaltungsreihe-gegen-repression/\n\n&nbsp\;
CATEGORIES:Diskussion
LOCATION:AJZ Bielefeld\, Heeper Str. 132\, 33607 Bielefeld\, Deutschland
X-APPLE-STRUCTURED-LOCATION;VALUE=URI;X-ADDRESS=Heeper Str. 132\, 33607 Bie
 lefeld\, Deutschland;X-APPLE-RADIUS=100;X-TITLE=AJZ Bielefeld:geo:0,0
END:VEVENT
BEGIN:VTIMEZONE
TZID:Europe/Berlin
X-LIC-LOCATION:Europe/Berlin
BEGIN:DAYLIGHT
DTSTART:20220327T030000
TZOFFSETFROM:+0100
TZOFFSETTO:+0200
TZNAME:CEST
END:DAYLIGHT
END:VTIMEZONE
END:VCALENDAR