BEGIN:VCALENDAR
VERSION:2.0
PRODID:-//wp-events-plugin.com//7.2.3.1//EN
TZID:Europe/Berlin
X-WR-TIMEZONE:Europe/Berlin
BEGIN:VEVENT
UID:4489@lilabi.net
DTSTART;TZID=Europe/Berlin:20221218T110000
DTEND;TZID=Europe/Berlin:20221218T180000
DTSTAMP:20221215T150107Z
URL:https://www.lilabi.net/events/strassenfest-an-der-muehlenstrasse/
SUMMARY:Straßenfest an der Mühlenstraße
DESCRIPTION:Einladung zum Straßenfest mit kostenlosem Essen &amp\; Geträn
 ken\, sowie Musik\, Spiel &amp\; Spaß.\nFür alle Kleinen und Großen aus
  der Nachbarschaft.\nmit Spielgeräten für Kinder!\n&amp\; alkoholfreiem 
 Punsch für Alle!\n\nWann?\nAm Sonntag\, den 18. Dezember\, von 11 bis 18 
 Uhr:\n\nWo?\nMetzer Straße 20 (Ecke Mühlenstraße)\, 33607 Bielefeld\n(h
 ttps://goo.gl/…)\n\nAb 11 Uhr:\ngemeinsames Schnibbeln &amp\; Kochen\n\n
 Ab 13 Uhr:\nKüche für Alle (kostenloses Essen!)\nund akustische Punk-Mus
 ik der Live-Band “Irritator”\n\n14 bis 15 Uhr:\nAfro Fusion Workshop b
 y Atha (Connecting Family)\n\n15 Uhr:\nArabic &amp\; English Rap von “Mo
 h Kanim”\n\n15:30 Uhr:\nOpen Stage (+ Poetry Slam)\n\nAb 16 Uhr:\n“She
 ego” elektronische Musik &amp\; Ausklang\n\nKommt vorbei!\n\nZum Vernetz
 en\, Essen\, Spielen und um eine schöne Zeit zu verbringen\, laden wir al
 le ein\, die im Bielefelder Osten wohnen!\nGanz besonders die Menschen in 
 der\nMühlenstraße\,\nder Metzer Straße\,\ndem Niedermühlenkamp\,\nder 
 Schlosserstraße\,\nder Helmholtzstraße\,\nder Holländischen\,\nder Rave
 nsberger Str.\,\n&amp\; (natürlich \; ) der Spinnereistraße!\n\nMehr Inf
 ormationen in mehr Sprachen:\n\nhttps://ln.ki/soliBi
CATEGORIES:Austausch/Vernetzung,Konzert,Küfa,Party
LOCATION:FAU-Lokal\, Metzer Straße 20\, Bielefeld\, Deutschland
X-APPLE-STRUCTURED-LOCATION;VALUE=URI;X-ADDRESS=Metzer Straße 20\, Bielefe
 ld\, Deutschland;X-APPLE-RADIUS=100;X-TITLE=FAU-Lokal:geo:0,0
END:VEVENT
BEGIN:VTIMEZONE
TZID:Europe/Berlin
X-LIC-LOCATION:Europe/Berlin
BEGIN:STANDARD
DTSTART:20221030T020000
TZOFFSETFROM:+0200
TZOFFSETTO:+0100
TZNAME:CET
END:STANDARD
END:VTIMEZONE
END:VCALENDAR