BEGIN:VCALENDAR
VERSION:2.0
PRODID:-//wp-events-plugin.com//7.2.3.1//EN
TZID:Europe/Berlin
X-WR-TIMEZONE:Europe/Berlin
BEGIN:VEVENT
UID:4707@lilabi.net
DTSTART;TZID=Europe/Berlin:20230408T120000
DTEND;TZID=Europe/Berlin:20230408T140000
DTSTAMP:20230329T205359Z
URL:https://www.lilabi.net/events/stoppt-die-kriege-fuer-frieden-umwelt-kl
 imasachutz-und-soziale-sicherung/
SUMMARY:Stoppt die Kriege Für Frieden\, Umwelt\, Klimasachutz und soziale 
 Sicherung
DESCRIPTION:Demonstration Ostermarsch für Frieden\, Umwelt\, Klimaschutz u
 dn sozale Sicherung
LOCATION:Bahnhofsvorplatz  Bielefeld\, Bahnhofsplatz 1\, Bielefeld\, Deutsc
 hland
X-APPLE-STRUCTURED-LOCATION;VALUE=URI;X-ADDRESS=Bahnhofsplatz 1\, Bielefeld
 \, Deutschland;X-APPLE-RADIUS=100;X-TITLE=Bahnhofsvorplatz  Bielefeld:geo:
 0,0
END:VEVENT
BEGIN:VTIMEZONE
TZID:Europe/Berlin
X-LIC-LOCATION:Europe/Berlin
BEGIN:DAYLIGHT
DTSTART:20230326T030000
TZOFFSETFROM:+0100
TZOFFSETTO:+0200
TZNAME:CEST
END:DAYLIGHT
END:VTIMEZONE
END:VCALENDAR